BEGIN:VCALENDAR
VERSION:2.0
PRODID:-//Helena Public Schools - ECPv6.15.20//NONSGML v1.0//EN
CALSCALE:GREGORIAN
METHOD:PUBLISH
X-ORIGINAL-URL:https://helenaschools.org
X-WR-CALDESC:Events for Helena Public Schools
REFRESH-INTERVAL;VALUE=DURATION:PT1H
X-Robots-Tag:noindex
X-PUBLISHED-TTL:PT1H
BEGIN:VTIMEZONE
TZID:America/Denver
BEGIN:DAYLIGHT
TZOFFSETFROM:-0700
TZOFFSETTO:-0600
TZNAME:MDT
DTSTART:20200308T090000
END:DAYLIGHT
BEGIN:STANDARD
TZOFFSETFROM:-0600
TZOFFSETTO:-0700
TZNAME:MST
DTSTART:20201101T080000
END:STANDARD
BEGIN:DAYLIGHT
TZOFFSETFROM:-0700
TZOFFSETTO:-0600
TZNAME:MDT
DTSTART:20210314T090000
END:DAYLIGHT
BEGIN:STANDARD
TZOFFSETFROM:-0600
TZOFFSETTO:-0700
TZNAME:MST
DTSTART:20211107T080000
END:STANDARD
BEGIN:DAYLIGHT
TZOFFSETFROM:-0700
TZOFFSETTO:-0600
TZNAME:MDT
DTSTART:20220313T090000
END:DAYLIGHT
BEGIN:STANDARD
TZOFFSETFROM:-0600
TZOFFSETTO:-0700
TZNAME:MST
DTSTART:20221106T080000
END:STANDARD
BEGIN:DAYLIGHT
TZOFFSETFROM:-0700
TZOFFSETTO:-0600
TZNAME:MDT
DTSTART:20230312T090000
END:DAYLIGHT
BEGIN:STANDARD
TZOFFSETFROM:-0600
TZOFFSETTO:-0700
TZNAME:MST
DTSTART:20231105T080000
END:STANDARD
BEGIN:DAYLIGHT
TZOFFSETFROM:-0700
TZOFFSETTO:-0600
TZNAME:MDT
DTSTART:20240310T090000
END:DAYLIGHT
BEGIN:STANDARD
TZOFFSETFROM:-0600
TZOFFSETTO:-0700
TZNAME:MST
DTSTART:20241103T080000
END:STANDARD
BEGIN:DAYLIGHT
TZOFFSETFROM:-0700
TZOFFSETTO:-0600
TZNAME:MDT
DTSTART:20250309T090000
END:DAYLIGHT
BEGIN:STANDARD
TZOFFSETFROM:-0600
TZOFFSETTO:-0700
TZNAME:MST
DTSTART:20251102T080000
END:STANDARD
BEGIN:DAYLIGHT
TZOFFSETFROM:-0700
TZOFFSETTO:-0600
TZNAME:MDT
DTSTART:20260308T090000
END:DAYLIGHT
BEGIN:STANDARD
TZOFFSETFROM:-0600
TZOFFSETTO:-0700
TZNAME:MST
DTSTART:20261101T080000
END:STANDARD
END:VTIMEZONE
BEGIN:VEVENT
DTSTART;TZID=America/Denver:20250423T180000
DTEND;TZID=America/Denver:20250423T193000
DTSTAMP:20260424T031027
CREATED:20250403T151007Z
LAST-MODIFIED:20250421T221634Z
UID:10006737-1745431200-1745436600@helenaschools.org
SUMMARY:Capital High School Community Meeting-April 23th\, 2025
DESCRIPTION:
URL:https://helenaschools.org/event/capital-high-school-community-meeting-april-17th-2025/
LOCATION:Capital High School\, 100 Valley Dr.\, Helena\, MT\, 59601\, United States
CATEGORIES:Capital High School Activities,District Schedule,Special Meeting
END:VEVENT
BEGIN:VEVENT
DTSTART;VALUE=DATE:20211210
DTEND;VALUE=DATE:20211211
DTSTAMP:20260424T031027
CREATED:20211119T192256Z
LAST-MODIFIED:20211119T192256Z
UID:10005836-1639094400-1639180799@helenaschools.org
SUMMARY:CHS Boys Basketball vs Bozeman - Away
DESCRIPTION:Varsity: 7 pm \nJV: 5:30 pm \nSophomore: 4 pm \nFrosh: 4:15 pm
URL:https://helenaschools.org/event/chs-boys-basketball-vs-bozeman-away/
LOCATION:Helena\, MT\, 59601\, United States
CATEGORIES:Capital High Boys Basketball
END:VEVENT
BEGIN:VEVENT
DTSTART;VALUE=DATE:20211104
DTEND;VALUE=DATE:20211107
DTSTAMP:20260424T031027
CREATED:20210903T200352Z
LAST-MODIFIED:20210903T200352Z
UID:10005744-1635984000-1636243199@helenaschools.org
SUMMARY:CHS Volleyball Divisional - Glacier
DESCRIPTION:
URL:https://helenaschools.org/event/chs-volleyball-divisional-glacier/
LOCATION:Helena\, MT\, 59601\, United States
CATEGORIES:Capital High Volleyball
END:VEVENT
BEGIN:VEVENT
DTSTART;VALUE=DATE:20211030
DTEND;VALUE=DATE:20211031
DTSTAMP:20260424T031027
CREATED:20210903T222946Z
LAST-MODIFIED:20210903T222946Z
UID:10005783-1635552000-1635638399@helenaschools.org
SUMMARY:CHS Girls Soccer - State Championship
DESCRIPTION:
URL:https://helenaschools.org/event/chs-girls-soccer-state-championship/
LOCATION:Helena\, MT\, 59601\, United States
CATEGORIES:Capital High Girls Soccer
END:VEVENT
BEGIN:VEVENT
DTSTART;VALUE=DATE:20211030
DTEND;VALUE=DATE:20211031
DTSTAMP:20260424T031027
CREATED:20210903T221259Z
LAST-MODIFIED:20210903T221259Z
UID:10005772-1635552000-1635638399@helenaschools.org
SUMMARY:CHS Boys Soccer - State Championship
DESCRIPTION:
URL:https://helenaschools.org/event/chs-boys-soccer-state-championship-2/
LOCATION:Helena\, MT\, 59601\, United States
CATEGORIES:Capital High Boys Soccer
END:VEVENT
BEGIN:VEVENT
DTSTART;VALUE=DATE:20211028
DTEND;VALUE=DATE:20211029
DTSTAMP:20260424T031027
CREATED:20210903T200259Z
LAST-MODIFIED:20210903T200259Z
UID:10005743-1635379200-1635465599@helenaschools.org
SUMMARY:CHS Volleyball vs Sentinel - Away
DESCRIPTION:
URL:https://helenaschools.org/event/chs-volleyball-vs-sentinel-away/
LOCATION:Helena\, MT\, 59601\, United States
CATEGORIES:Capital High Volleyball
END:VEVENT
BEGIN:VEVENT
DTSTART;VALUE=DATE:20211026
DTEND;VALUE=DATE:20211027
DTSTAMP:20260424T031027
CREATED:20210903T222859Z
LAST-MODIFIED:20210903T222908Z
UID:10005782-1635206400-1635292799@helenaschools.org
SUMMARY:CHS Girls Soccer - Semi Final
DESCRIPTION:
URL:https://helenaschools.org/event/chs-girls-soccer-semi-final/
LOCATION:Helena\, MT\, 59601\, United States
CATEGORIES:Capital High Girls Soccer
END:VEVENT
BEGIN:VEVENT
DTSTART;VALUE=DATE:20211026
DTEND;VALUE=DATE:20211027
DTSTAMP:20260424T031027
CREATED:20210903T221120Z
LAST-MODIFIED:20210903T221120Z
UID:10005770-1635206400-1635292799@helenaschools.org
SUMMARY:CHS Boys Soccer - Semi Final
DESCRIPTION:
URL:https://helenaschools.org/event/chs-boys-soccer-semi-final/
LOCATION:Helena\, MT\, 59601\, United States
CATEGORIES:Capital High Boys Soccer
END:VEVENT
BEGIN:VEVENT
DTSTART;VALUE=DATE:20211026
DTEND;VALUE=DATE:20211027
DTSTAMP:20260424T031027
CREATED:20210903T200214Z
LAST-MODIFIED:20210903T200214Z
UID:10005742-1635206400-1635292799@helenaschools.org
SUMMARY:CHS Volleyball vs Butte - Home
DESCRIPTION:
URL:https://helenaschools.org/event/chs-volleyball-vs-butte-home/
LOCATION:Helena\, MT\, 59601\, United States
CATEGORIES:Capital High Volleyball
END:VEVENT
BEGIN:VEVENT
DTSTART;TZID=America/Denver:20211023T100000
DTEND;TZID=America/Denver:20211023T120000
DTSTAMP:20260424T031027
CREATED:20210902T154552Z
LAST-MODIFIED:20210902T154552Z
UID:10005674-1634983200-1634990400@helenaschools.org
SUMMARY:CHS Frosh Football vs Helena High
DESCRIPTION:
URL:https://helenaschools.org/event/chs-frosh-football-vs-helena-high/
LOCATION:Helena\, MT\, 59601\, United States
CATEGORIES:Capital High Football - Frosh
END:VEVENT
BEGIN:VEVENT
DTSTART;VALUE=DATE:20211023
DTEND;VALUE=DATE:20211024
DTSTAMP:20260424T031027
CREATED:20210903T222830Z
LAST-MODIFIED:20210903T222830Z
UID:10005781-1634947200-1635033599@helenaschools.org
SUMMARY:CHS Girls Soccer - Quarter Final
DESCRIPTION:
URL:https://helenaschools.org/event/chs-girls-soccer-quarter-final/
LOCATION:Helena\, MT\, 59601\, United States
CATEGORIES:Capital High Girls Soccer
END:VEVENT
BEGIN:VEVENT
DTSTART;VALUE=DATE:20211023
DTEND;VALUE=DATE:20211024
DTSTAMP:20260424T031027
CREATED:20210903T221017Z
LAST-MODIFIED:20210903T221017Z
UID:10005768-1634947200-1635033599@helenaschools.org
SUMMARY:CHS Boys Soccer - First Round
DESCRIPTION:
URL:https://helenaschools.org/event/chs-boys-soccer-first-round/
LOCATION:Helena\, MT\, 59601\, United States
CATEGORIES:Capital High Boys Soccer
END:VEVENT
BEGIN:VEVENT
DTSTART;VALUE=DATE:20211023
DTEND;VALUE=DATE:20211024
DTSTAMP:20260424T031027
CREATED:20210903T215517Z
LAST-MODIFIED:20210903T215517Z
UID:10005756-1634947200-1635033599@helenaschools.org
SUMMARY:CHS Cross Country - State - Missoula
DESCRIPTION:
URL:https://helenaschools.org/event/chs-cross-country-state-missoula/
LOCATION:Helena\, MT\, 59601\, United States
CATEGORIES:Capital High Cross Country
END:VEVENT
BEGIN:VEVENT
DTSTART;TZID=America/Denver:20211022T190000
DTEND;TZID=America/Denver:20211022T210000
DTSTAMP:20260424T031027
CREATED:20210902T151557Z
LAST-MODIFIED:20210902T151557Z
UID:10005659-1634929200-1634936400@helenaschools.org
SUMMARY:CHS Varsity Football vs Helena High
DESCRIPTION:
URL:https://helenaschools.org/event/chs-varsity-football-vs-helena-high/
LOCATION:Helena\, MT\, 59601\, United States
CATEGORIES:Capital High Football - Varsity
END:VEVENT
BEGIN:VEVENT
DTSTART;TZID=America/Denver:20211022T150000
DTEND;TZID=America/Denver:20211022T170000
DTSTAMP:20260424T031027
CREATED:20210902T152120Z
LAST-MODIFIED:20210902T152120Z
UID:10005667-1634914800-1634922000@helenaschools.org
SUMMARY:CHS JV Football vs Helena High
DESCRIPTION:
URL:https://helenaschools.org/event/chs-jv-football-vs-helena-high/
LOCATION:Helena\, MT\, 59601\, United States
CATEGORIES:Capital High Football - Junior Varsity
END:VEVENT
BEGIN:VEVENT
DTSTART;VALUE=DATE:20211022
DTEND;VALUE=DATE:20211023
DTSTAMP:20260424T031027
CREATED:20210903T200121Z
LAST-MODIFIED:20210903T200121Z
UID:10005741-1634860800-1634947199@helenaschools.org
SUMMARY:CHS Volleyball vs Glacier - Home
DESCRIPTION:
URL:https://helenaschools.org/event/chs-volleyball-vs-glacier-home/
LOCATION:Helena\, MT\, 59601\, United States
CATEGORIES:Capital High Volleyball
END:VEVENT
BEGIN:VEVENT
DTSTART;VALUE=DATE:20211021
DTEND;VALUE=DATE:20211022
DTSTAMP:20260424T031027
CREATED:20210903T195158Z
LAST-MODIFIED:20210903T201313Z
UID:10005740-1634774400-1634860799@helenaschools.org
SUMMARY:CHS Volleyball vs Flathead - Home
DESCRIPTION:
URL:https://helenaschools.org/event/capital-high-volleyball-vs-flathead-home/
LOCATION:Helena\, MT\, 59601\, United States
CATEGORIES:Capital High Volleyball
END:VEVENT
BEGIN:VEVENT
DTSTART;TZID=America/Denver:20211019T040000
DTEND;TZID=America/Denver:20211019T180000
DTSTAMP:20260424T031027
CREATED:20211018T143928Z
LAST-MODIFIED:20211018T144235Z
UID:10005828-1634616000-1634666400@helenaschools.org
SUMMARY:Capital Boys Soccer vs Butte High - State AA Playoff
DESCRIPTION:
URL:https://helenaschools.org/event/capital-high-boys-soccer-vs-butte-high-state-aa-playoff/
LOCATION:Siebel Fields\, 2550 Skyway Dr.\, Helena\, MT\, 59601\, United States
CATEGORIES:Capital High Boys Soccer
END:VEVENT
BEGIN:VEVENT
DTSTART;TZID=America/Denver:20211019T020000
DTEND;TZID=America/Denver:20211019T170000
DTSTAMP:20260424T031027
CREATED:20211018T144152Z
LAST-MODIFIED:20211018T144152Z
UID:10005829-1634608800-1634662800@helenaschools.org
SUMMARY:Capital Girls Soccer vs Glacier - State AA Playoff
DESCRIPTION:
URL:https://helenaschools.org/event/capital-girls-soccer-vs-glacier-state-aa-playoff/
LOCATION:Siebel Fields\, 2550 Skyway Dr.\, Helena\, MT\, 59601\, United States
CATEGORIES:Capital High Girls Soccer
END:VEVENT
BEGIN:VEVENT
DTSTART;TZID=America/Denver:20211016T110000
DTEND;TZID=America/Denver:20211016T130000
DTSTAMP:20260424T031027
CREATED:20210902T154527Z
LAST-MODIFIED:20210902T154527Z
UID:10005673-1634382000-1634389200@helenaschools.org
SUMMARY:CHS Frosh Football vs Sentinel
DESCRIPTION:
URL:https://helenaschools.org/event/chs-frosh-football-vs-sentinel/
LOCATION:Helena\, MT\, 59601\, United States
CATEGORIES:Capital High Football - Frosh
END:VEVENT
BEGIN:VEVENT
DTSTART;VALUE=DATE:20211016
DTEND;VALUE=DATE:20211017
DTSTAMP:20260424T031027
CREATED:20210903T195121Z
LAST-MODIFIED:20210903T201234Z
UID:10005739-1634342400-1634428799@helenaschools.org
SUMMARY:CHS Volleyball vs Helena High - Home
DESCRIPTION:
URL:https://helenaschools.org/event/capital-high-volleyball-vs-helena-high-home/
LOCATION:Helena\, MT\, 59601\, United States
CATEGORIES:Capital High Volleyball
END:VEVENT
BEGIN:VEVENT
DTSTART;TZID=America/Denver:20211015T190000
DTEND;TZID=America/Denver:20211015T210000
DTSTAMP:20260424T031027
CREATED:20210902T151532Z
LAST-MODIFIED:20210902T151532Z
UID:10005658-1634324400-1634331600@helenaschools.org
SUMMARY:CHS Varsity Football vs Sentinel - Away
DESCRIPTION:
URL:https://helenaschools.org/event/chs-varsity-football-vs-sentinel-away/
LOCATION:Helena\, MT\, 59601\, United States
CATEGORIES:Capital High Football - Varsity
END:VEVENT
BEGIN:VEVENT
DTSTART;TZID=America/Denver:20211015T150000
DTEND;TZID=America/Denver:20211015T170000
DTSTAMP:20260424T031027
CREATED:20210902T152055Z
LAST-MODIFIED:20210902T152055Z
UID:10005666-1634310000-1634317200@helenaschools.org
SUMMARY:CHS JV Football vs Sentinel - Away
DESCRIPTION:
URL:https://helenaschools.org/event/chs-jv-football-vs-sentinel-away/
LOCATION:Helena\, MT\, 59601\, United States
CATEGORIES:Capital High Football - Junior Varsity
END:VEVENT
BEGIN:VEVENT
DTSTART;VALUE=DATE:20211014
DTEND;VALUE=DATE:20211015
DTSTAMP:20260424T031027
CREATED:20210903T222526Z
LAST-MODIFIED:20210903T222526Z
UID:10005780-1634169600-1634255999@helenaschools.org
SUMMARY:CHS Girls Soccer vs Hellgate - Home
DESCRIPTION:
URL:https://helenaschools.org/event/chs-girls-soccer-vs-hellgate-home/
LOCATION:Helena\, MT\, 59601\, United States
CATEGORIES:Capital High Girls Soccer
END:VEVENT
BEGIN:VEVENT
DTSTART;VALUE=DATE:20211014
DTEND;VALUE=DATE:20211015
DTSTAMP:20260424T031027
CREATED:20210903T220903Z
LAST-MODIFIED:20210903T220903Z
UID:10005767-1634169600-1634255999@helenaschools.org
SUMMARY:CHS Boys Soccer vs Hellgate - Home
DESCRIPTION:
URL:https://helenaschools.org/event/chs-boys-soccer-vs-hellgate-home/
LOCATION:Helena\, MT\, 59601\, United States
CATEGORIES:Capital High Boys Soccer
END:VEVENT
BEGIN:VEVENT
DTSTART;VALUE=DATE:20211013
DTEND;VALUE=DATE:20211014
DTSTAMP:20260424T031027
CREATED:20210903T215439Z
LAST-MODIFIED:20210903T215439Z
UID:10005755-1634083200-1634169599@helenaschools.org
SUMMARY:CHS Cross Country vs Helena High - Home
DESCRIPTION:
URL:https://helenaschools.org/event/chs-cross-country-vs-helena-high-home/
LOCATION:Helena\, MT\, 59601\, United States
CATEGORIES:Capital High Cross Country
END:VEVENT
BEGIN:VEVENT
DTSTART;VALUE=DATE:20211012
DTEND;VALUE=DATE:20211013
DTSTAMP:20260424T031027
CREATED:20210903T222415Z
LAST-MODIFIED:20210903T222415Z
UID:10005779-1633996800-1634083199@helenaschools.org
SUMMARY:CHS Girls Soccer vs Big Sky - Away
DESCRIPTION:
URL:https://helenaschools.org/event/chs-girls-soccer-vs-big-sky-away/
LOCATION:Helena\, MT\, 59601\, United States
CATEGORIES:Capital High Girls Soccer
END:VEVENT
BEGIN:VEVENT
DTSTART;VALUE=DATE:20211012
DTEND;VALUE=DATE:20211013
DTSTAMP:20260424T031027
CREATED:20210903T220830Z
LAST-MODIFIED:20210903T220830Z
UID:10005766-1633996800-1634083199@helenaschools.org
SUMMARY:CHS Boys Soccer vs Big Sky - Away
DESCRIPTION:
URL:https://helenaschools.org/event/chs-boys-soccer-vs-big-sky-away/
LOCATION:Helena\, MT\, 59601\, United States
CATEGORIES:Capital High Boys Soccer
END:VEVENT
BEGIN:VEVENT
DTSTART;VALUE=DATE:20211009
DTEND;VALUE=DATE:20211010
DTSTAMP:20260424T031027
CREATED:20210903T195041Z
LAST-MODIFIED:20210903T201154Z
UID:10005738-1633737600-1633823999@helenaschools.org
SUMMARY:CHS Volleyball vs Big Sky - Away
DESCRIPTION:
URL:https://helenaschools.org/event/capital-high-volleyball-vs-big-sky-away/
LOCATION:Helena\, MT\, 59601\, United States
CATEGORIES:Capital High Volleyball
END:VEVENT
BEGIN:VEVENT
DTSTART;TZID=America/Denver:20211008T190000
DTEND;TZID=America/Denver:20211008T210000
DTSTAMP:20260424T031027
CREATED:20210902T151459Z
LAST-MODIFIED:20210902T151459Z
UID:10005657-1633719600-1633726800@helenaschools.org
SUMMARY:CHS Varsity Football vs Hellgate
DESCRIPTION:
URL:https://helenaschools.org/event/chs-varsity-football-vs-hellgate/
LOCATION:Helena\, MT\, 59601\, United States
CATEGORIES:Capital High Football - Varsity
END:VEVENT
END:VCALENDAR