BEGIN:VCALENDAR
VERSION:2.0
PRODID:-//Helena Public Schools - ECPv6.15.20//NONSGML v1.0//EN
CALSCALE:GREGORIAN
METHOD:PUBLISH
X-ORIGINAL-URL:https://helenaschools.org
X-WR-CALDESC:Events for Helena Public Schools
REFRESH-INTERVAL;VALUE=DURATION:PT1H
X-Robots-Tag:noindex
X-PUBLISHED-TTL:PT1H
BEGIN:VTIMEZONE
TZID:America/Denver
BEGIN:DAYLIGHT
TZOFFSETFROM:-0700
TZOFFSETTO:-0600
TZNAME:MDT
DTSTART:20200308T090000
END:DAYLIGHT
BEGIN:STANDARD
TZOFFSETFROM:-0600
TZOFFSETTO:-0700
TZNAME:MST
DTSTART:20201101T080000
END:STANDARD
BEGIN:DAYLIGHT
TZOFFSETFROM:-0700
TZOFFSETTO:-0600
TZNAME:MDT
DTSTART:20210314T090000
END:DAYLIGHT
BEGIN:STANDARD
TZOFFSETFROM:-0600
TZOFFSETTO:-0700
TZNAME:MST
DTSTART:20211107T080000
END:STANDARD
BEGIN:DAYLIGHT
TZOFFSETFROM:-0700
TZOFFSETTO:-0600
TZNAME:MDT
DTSTART:20220313T090000
END:DAYLIGHT
BEGIN:STANDARD
TZOFFSETFROM:-0600
TZOFFSETTO:-0700
TZNAME:MST
DTSTART:20221106T080000
END:STANDARD
BEGIN:DAYLIGHT
TZOFFSETFROM:-0700
TZOFFSETTO:-0600
TZNAME:MDT
DTSTART:20230312T090000
END:DAYLIGHT
BEGIN:STANDARD
TZOFFSETFROM:-0600
TZOFFSETTO:-0700
TZNAME:MST
DTSTART:20231105T080000
END:STANDARD
BEGIN:DAYLIGHT
TZOFFSETFROM:-0700
TZOFFSETTO:-0600
TZNAME:MDT
DTSTART:20240310T090000
END:DAYLIGHT
BEGIN:STANDARD
TZOFFSETFROM:-0600
TZOFFSETTO:-0700
TZNAME:MST
DTSTART:20241103T080000
END:STANDARD
BEGIN:DAYLIGHT
TZOFFSETFROM:-0700
TZOFFSETTO:-0600
TZNAME:MDT
DTSTART:20250309T090000
END:DAYLIGHT
BEGIN:STANDARD
TZOFFSETFROM:-0600
TZOFFSETTO:-0700
TZNAME:MST
DTSTART:20251102T080000
END:STANDARD
BEGIN:DAYLIGHT
TZOFFSETFROM:-0700
TZOFFSETTO:-0600
TZNAME:MDT
DTSTART:20260308T090000
END:DAYLIGHT
BEGIN:STANDARD
TZOFFSETFROM:-0600
TZOFFSETTO:-0700
TZNAME:MST
DTSTART:20261101T080000
END:STANDARD
END:VTIMEZONE
BEGIN:VEVENT
DTSTART;TZID=America/Denver:20251022T133000
DTEND;TZID=America/Denver:20251022T143000
DTSTAMP:20260422T204058
CREATED:20251015T150537Z
LAST-MODIFIED:20251015T164319Z
UID:10006777-1761139800-1761143400@helenaschools.org
SUMMARY:Health Benefits Committee Meeting-October 22nd\, 2025
DESCRIPTION:
URL:https://helenaschools.org/event/health-benefits-committee-meeting-october-22nd-2025/
LOCATION:Lincoln Center\, 1325 Poplar St\, Helena\, MT\, 59601\, United States
CATEGORIES:Board of Trustees Meeting,Health & Benefits Committee Meetings
ORGANIZER;CN="Board of Trustees":MAILTO:boardoftrustees@helenaschools.org
END:VEVENT
BEGIN:VEVENT
DTSTART;TZID=America/Denver:20250925T154500
DTEND;TZID=America/Denver:20250925T170000
DTSTAMP:20260422T204058
CREATED:20250922T141430Z
LAST-MODIFIED:20250922T141430Z
UID:10006774-1758815100-1758819600@helenaschools.org
SUMMARY:Health Benefits Committee Meeting-September 25th\, 2025
DESCRIPTION:
URL:https://helenaschools.org/event/health-benefits-committee-meeting-september-25th-2025/
LOCATION:Lincoln Center\, 1325 Poplar St\, Helena\, MT\, 59601\, United States
CATEGORIES:Health & Benefits Committee Meetings
END:VEVENT
BEGIN:VEVENT
DTSTART;TZID=America/Denver:20250828T154500
DTEND;TZID=America/Denver:20250828T170000
DTSTAMP:20260422T204058
CREATED:20250826T141310Z
LAST-MODIFIED:20250826T153056Z
UID:10006760-1756395900-1756400400@helenaschools.org
SUMMARY:Health Benefits Committee Meeting-Thursday\, August 28th\, 2025
DESCRIPTION:
URL:https://helenaschools.org/event/health-benefits-committee-meeting-thursday-august-28th-2025/
LOCATION:Lincoln Center\, 1325 Poplar St\, Helena\, MT\, 59601\, United States
CATEGORIES:Health & Benefits Committee Meetings
END:VEVENT
BEGIN:VEVENT
DTSTART;TZID=America/Denver:20250130T154500
DTEND;TZID=America/Denver:20250130T164500
DTSTAMP:20260422T204058
CREATED:20250102T150744Z
LAST-MODIFIED:20250121T153908Z
UID:10006344-1738251900-1738255500@helenaschools.org
SUMMARY:*Canceled* Health Benefits Committee Meeting-January 30th\, 2025
DESCRIPTION:
URL:https://helenaschools.org/event/health-benefits-committee-meeting-january-30th-2025/
LOCATION:Lincoln Center\, 1325 Poplar St\, Helena\, MT\, 59601\, United States
CATEGORIES:Health & Benefits Committee Meetings
ORGANIZER;CN="Board of Trustees":MAILTO:boardoftrustees@helenaschools.org
END:VEVENT
BEGIN:VEVENT
DTSTART;TZID=America/Denver:20250107T154500
DTEND;TZID=America/Denver:20250107T164500
DTSTAMP:20260422T204058
CREATED:20241210T234612Z
LAST-MODIFIED:20250102T151431Z
UID:10006343-1736264700-1736268300@helenaschools.org
SUMMARY:Health Benefits Committee Meeting January 7th\, 2025
DESCRIPTION:
URL:https://helenaschools.org/event/health-benefits-committee-meeting-1-7-25/
LOCATION:Lincoln Center\, 1325 Poplar St\, Helena\, MT\, 59601\, United States
CATEGORIES:Board of Trustees Meeting,Health & Benefits Committee Meetings
ORGANIZER;CN="Board of Trustees":MAILTO:boardoftrustees@helenaschools.org
END:VEVENT
BEGIN:VEVENT
DTSTART;TZID=America/Denver:20241205T154500
DTEND;TZID=America/Denver:20241205T164500
DTSTAMP:20260422T204058
CREATED:20241125T195121Z
LAST-MODIFIED:20250108T151349Z
UID:10006336-1733413500-1733417100@helenaschools.org
SUMMARY:Health Benefits Committee Meeting 12.5.24
DESCRIPTION:
URL:https://helenaschools.org/event/health-benefits-committee-meeting-12-5-24-2/
LOCATION:Lincoln Center\, 1325 Poplar St\, Helena\, MT\, 59601\, United States
CATEGORIES:Board of Trustees Meeting,Health & Benefits Committee Meetings
ORGANIZER;CN="Board of Trustees":MAILTO:boardoftrustees@helenaschools.org
END:VEVENT
BEGIN:VEVENT
DTSTART;TZID=America/Denver:20241107T154500
DTEND;TZID=America/Denver:20241107T164500
DTSTAMP:20260422T204058
CREATED:20241104T155438Z
LAST-MODIFIED:20250108T151241Z
UID:10006329-1730994300-1730997900@helenaschools.org
SUMMARY:Health Benefits Committee Meeting 11.7.24
DESCRIPTION:
URL:https://helenaschools.org/event/health-benefits-committee-meeting-11-7-24/
LOCATION:Lincoln Center\, 1325 Poplar St\, Helena\, MT\, 59601\, United States
CATEGORIES:Board of Trustees Meeting,Health & Benefits Committee Meetings
END:VEVENT
BEGIN:VEVENT
DTSTART;TZID=America/Denver:20240829T154500
DTEND;TZID=America/Denver:20240829T171500
DTSTAMP:20260422T204058
CREATED:20240821T163003Z
LAST-MODIFIED:20250122T214612Z
UID:10006312-1724946300-1724951700@helenaschools.org
SUMMARY:Health Benefits Committee Meeting 8.29.24
DESCRIPTION:
URL:https://helenaschools.org/event/health-benefits-committee-meeting-8-29-24/
LOCATION:Lincoln Center\, 1325 Poplar St\, Helena\, MT\, 59601\, United States
CATEGORIES:Board of Trustees Meeting,Health & Benefits Committee Meetings
ORGANIZER;CN="Board of Trustees":MAILTO:boardoftrustees@helenaschools.org
END:VEVENT
BEGIN:VEVENT
DTSTART;TZID=America/Denver:20240530T160000
DTEND;TZID=America/Denver:20240530T170000
DTSTAMP:20260422T204058
CREATED:20240528T142231Z
LAST-MODIFIED:20250122T214716Z
UID:10006301-1717084800-1717088400@helenaschools.org
SUMMARY:Health Benefits Committee Meeting 5.30.24
DESCRIPTION:
URL:https://helenaschools.org/event/health-benefits-committee-meeting-5-30-24/
LOCATION:Lincoln Center\, 1325 Poplar St\, Helena\, MT\, 59601\, United States
CATEGORIES:Health & Benefits Committee Meetings
END:VEVENT
BEGIN:VEVENT
DTSTART;TZID=America/Denver:20240523T160000
DTEND;TZID=America/Denver:20240523T170000
DTSTAMP:20260422T204058
CREATED:20240520T164425Z
LAST-MODIFIED:20240520T164550Z
UID:10006300-1716480000-1716483600@helenaschools.org
SUMMARY:Health Benefits Committee Meeting-May 23\, 2024
DESCRIPTION:
URL:https://helenaschools.org/event/health-benefits-committee-meeting-may-23-2024/
LOCATION:Lincoln Center\, 1325 Poplar St\, Helena\, MT\, 59601\, United States
CATEGORIES:Health & Benefits Committee Meetings
END:VEVENT
BEGIN:VEVENT
DTSTART;TZID=America/Denver:20240425T154500
DTEND;TZID=America/Denver:20240425T171500
DTSTAMP:20260422T204058
CREATED:20240420T001706Z
LAST-MODIFIED:20240420T012258Z
UID:10006287-1714059900-1714065300@helenaschools.org
SUMMARY:4.25.24 Health Benefits Committee Meeting
DESCRIPTION:
URL:https://helenaschools.org/event/4-25-24-health-benefits-committee-meeting/
LOCATION:Lincoln Center\, 1325 Poplar St\, Helena\, MT\, 59601\, United States
CATEGORIES:District Schedule,Health & Benefits Committee Meetings
END:VEVENT
BEGIN:VEVENT
DTSTART;TZID=America/Denver:20240215T154500
DTEND;TZID=America/Denver:20240215T170000
DTSTAMP:20260422T204058
CREATED:20240208T211847Z
LAST-MODIFIED:20240208T211901Z
UID:10006269-1708011900-1708016400@helenaschools.org
SUMMARY:Health Benefits Committee Meeting 02.15.24
DESCRIPTION:
URL:https://helenaschools.org/event/health-benefits-committee-meeting-02-15-24/
LOCATION:Lincoln Center\, 1325 Poplar St\, Helena\, MT\, 59601\, United States
CATEGORIES:Health & Benefits Committee Meetings
END:VEVENT
BEGIN:VEVENT
DTSTART;TZID=America/Denver:20231130T154500
DTEND;TZID=America/Denver:20231130T171500
DTSTAMP:20260422T204058
CREATED:20231020T180706Z
LAST-MODIFIED:20250102T215031Z
UID:10006245-1701359100-1701364500@helenaschools.org
SUMMARY:Health Benefits Committee Meeting 11.30.23
DESCRIPTION:
URL:https://helenaschools.org/event/health-benefits-committee-meeting-11-30-23/
LOCATION:Lincoln Center\, 1325 Poplar St\, Helena\, MT\, 59601\, United States
CATEGORIES:District Schedule,Health & Benefits Committee Meetings
END:VEVENT
BEGIN:VEVENT
DTSTART;TZID=America/Denver:20231005T154500
DTEND;TZID=America/Denver:20231005T171500
DTSTAMP:20260422T204058
CREATED:20231002T170125Z
LAST-MODIFIED:20250102T215104Z
UID:10006229-1696520700-1696526100@helenaschools.org
SUMMARY:Health Benefits Committee Meeting 10.05.23
DESCRIPTION:
URL:https://helenaschools.org/event/health-benefits-committee-meeting-10-05-23/
LOCATION:Lincoln Center\, 1325 Poplar St\, Helena\, MT\, 59601\, United States
CATEGORIES:Health & Benefits Committee Meetings
END:VEVENT
BEGIN:VEVENT
DTSTART;TZID=America/Denver:20230831T154500
DTEND;TZID=America/Denver:20230831T171500
DTSTAMP:20260422T204058
CREATED:20230823T184527Z
LAST-MODIFIED:20250102T210901Z
UID:10006223-1693496700-1693502100@helenaschools.org
SUMMARY:Health Benefit Committee Meeting 08.31.23
DESCRIPTION:
URL:https://helenaschools.org/event/health-benefit-committee-meeting-08-31-23/
LOCATION:Lincoln Center\, 1325 Poplar St\, Helena\, MT\, 59601\, United States
CATEGORIES:District Schedule,Health & Benefits Committee Meetings
ORGANIZER;CN="Board of Trustees":MAILTO:boardoftrustees@helenaschools.org
END:VEVENT
BEGIN:VEVENT
DTSTART;TZID=America/Denver:20230525T154500
DTEND;TZID=America/Denver:20230525T170000
DTSTAMP:20260422T204058
CREATED:20230430T021032Z
LAST-MODIFIED:20230523T141438Z
UID:10006202-1685029500-1685034000@helenaschools.org
SUMMARY:Health Benefits Committee Meeting 05.25.23
DESCRIPTION:
URL:https://helenaschools.org/event/health-benefits-committee-meeting-05-25-23/
LOCATION:Lincoln Center\, 1325 Poplar St\, Helena\, MT\, 59601\, United States
CATEGORIES:Board of Trustees Meeting,Health & Benefits Committee Meetings
END:VEVENT
BEGIN:VEVENT
DTSTART;TZID=America/Denver:20230511T154500
DTEND;TZID=America/Denver:20230511T170000
DTSTAMP:20260422T204058
CREATED:20230503T180929Z
LAST-MODIFIED:20250102T194200Z
UID:10006203-1683819900-1683824400@helenaschools.org
SUMMARY:Health Benefits Committee Meeting 05.11.23
DESCRIPTION:
URL:https://helenaschools.org/event/health-benefits-committee-meeting-05-11-23/
LOCATION:Lincoln Center\, 1325 Poplar St\, Helena\, MT\, 59601\, United States
CATEGORIES:Health & Benefits Committee Meetings
END:VEVENT
BEGIN:VEVENT
DTSTART;TZID=America/Denver:20230427T154500
DTEND;TZID=America/Denver:20230427T170000
DTSTAMP:20260422T204058
CREATED:20230413T170820Z
LAST-MODIFIED:20250102T194108Z
UID:10006188-1682610300-1682614800@helenaschools.org
SUMMARY:Health Benefits Committee Meeting 04.27.23
DESCRIPTION:
URL:https://helenaschools.org/event/health-benefits-committee-meeting-04-27-23/
LOCATION:Lincoln Center\, 1325 Poplar St\, Helena\, MT\, 59601\, United States
CATEGORIES:District Schedule,Health & Benefits Committee Meetings
END:VEVENT
BEGIN:VEVENT
DTSTART;TZID=America/Denver:20230406T154500
DTEND;TZID=America/Denver:20230406T170000
DTSTAMP:20260422T204058
CREATED:20230330T150047Z
LAST-MODIFIED:20230330T150551Z
UID:10006182-1680795900-1680800400@helenaschools.org
SUMMARY:Health Benefits Committee Meeting 04.06.23
DESCRIPTION:
URL:https://helenaschools.org/event/health-benefits-committee-meeting-04-06-23/
LOCATION:Lincoln Center\, 1325 Poplar St\, Helena\, MT\, 59601\, United States
CATEGORIES:Health & Benefits Committee Meetings
ORGANIZER;CN="Board of Trustees":MAILTO:boardoftrustees@helenaschools.org
END:VEVENT
BEGIN:VEVENT
DTSTART;TZID=America/Denver:20230316T154500
DTEND;TZID=America/Denver:20230316T171500
DTSTAMP:20260422T204058
CREATED:20230225T200742Z
LAST-MODIFIED:20230315T161715Z
UID:10006171-1678981500-1678986900@helenaschools.org
SUMMARY:Health Benefits Committee Meeting 03.16.23
DESCRIPTION:
URL:https://helenaschools.org/event/health-benefits-committee-meeting-03-16-23/
LOCATION:Lincoln Center\, 1325 Poplar St\, Helena\, MT\, 59601\, United States
CATEGORIES:Board of Trustees Meeting,Health & Benefits Committee Meetings
ORGANIZER;CN="Board of Trustees":MAILTO:boardoftrustees@helenaschools.org
END:VEVENT
BEGIN:VEVENT
DTSTART;TZID=America/Denver:20221201T154500
DTEND;TZID=America/Denver:20221201T170000
DTSTAMP:20260422T204058
CREATED:20221121T203930Z
LAST-MODIFIED:20250102T193822Z
UID:10006152-1669909500-1669914000@helenaschools.org
SUMMARY:Health Benefit Committee Meeting 12.01.22
DESCRIPTION:
URL:https://helenaschools.org/event/health-benefit-committee-meeting-12-01-22/
LOCATION:Lincoln Center\, 1325 Poplar St\, Helena\, MT\, 59601\, United States
CATEGORIES:Board of Trustees Meeting,Health & Benefits Committee Meetings
ORGANIZER;CN="Board of Trustees":MAILTO:boardoftrustees@helenaschools.org
END:VEVENT
BEGIN:VEVENT
DTSTART;TZID=America/Denver:20221027T154500
DTEND;TZID=America/Denver:20221027T164500
DTSTAMP:20260422T204058
CREATED:20221019T211341Z
LAST-MODIFIED:20250102T193924Z
UID:10006144-1666885500-1666889100@helenaschools.org
SUMMARY:Health and Benefits Committee Meeting 10.27.22
DESCRIPTION:
URL:https://helenaschools.org/event/health-benefit-meeting-10-27-22/
LOCATION:Lincoln Center\, 1325 Poplar St\, Helena\, MT\, 59601\, United States
CATEGORIES:Board of Trustees Meeting,District Schedule,Health & Benefits Committee Meetings
ORGANIZER;CN="Board of Trustees":MAILTO:boardoftrustees@helenaschools.org
END:VEVENT
BEGIN:VEVENT
DTSTART;TZID=America/Denver:20220830T154500
DTEND;TZID=America/Denver:20220830T170000
DTSTAMP:20260422T204058
CREATED:20220824T213245Z
LAST-MODIFIED:20220825T152523Z
UID:10005916-1661874300-1661878800@helenaschools.org
SUMMARY:Health Benefits Committee Meeting 08.30.22
DESCRIPTION:
URL:https://helenaschools.org/event/health-benefits-committee-meeting-08-30-22/
LOCATION:Lincoln Center\, 1325 Poplar St\, Helena\, MT\, 59601\, United States
CATEGORIES:Board of Trustees Meeting,District Schedule,Health & Benefits Committee Meetings
END:VEVENT
BEGIN:VEVENT
DTSTART;TZID=America/Denver:20220526T154500
DTEND;TZID=America/Denver:20220526T170000
DTSTAMP:20260422T204058
CREATED:20220427T184607Z
LAST-MODIFIED:20220520T142007Z
UID:10005897-1653579900-1653584400@helenaschools.org
SUMMARY:Health Benefits Committee Meeting 05.26.22
DESCRIPTION:
URL:https://helenaschools.org/event/health-benefits-committee-meeting-05-26-22/
LOCATION:Lincoln Center\, 1325 Poplar St\, Helena\, MT\, 59601\, United States
CATEGORIES:Board of Trustees Meeting,Health & Benefits Committee Meetings
ORGANIZER;CN="Board of Trustees":MAILTO:boardoftrustees@helenaschools.org
END:VEVENT
BEGIN:VEVENT
DTSTART;TZID=America/Denver:20220407T154500
DTEND;TZID=America/Denver:20220407T170000
DTSTAMP:20260422T204058
CREATED:20220225T170908Z
LAST-MODIFIED:20220406T000950Z
UID:10005874-1649346300-1649350800@helenaschools.org
SUMMARY:Health Benefits Committee Meeting 04.07.22
DESCRIPTION:
URL:https://helenaschools.org/event/health-benefits-committee-meeting-04-07-22/
LOCATION:Lincoln Center\, 1325 Poplar St\, Helena\, MT\, 59601\, United States
CATEGORIES:Board of Trustees Meeting,Health & Benefits Committee Meetings
END:VEVENT
BEGIN:VEVENT
DTSTART;TZID=America/Denver:20220224T154500
DTEND;TZID=America/Denver:20220224T163000
DTSTAMP:20260422T204058
CREATED:20220125T183649Z
LAST-MODIFIED:20250102T193439Z
UID:10005855-1645717500-1645720200@helenaschools.org
SUMMARY:Health Benefits Committee 02.24.22
DESCRIPTION:Microsoft Teams meeting \n\n\n\nJoin on your computer or mobile app  \n\nClick here to join the meeting \n\n\n\nOr call in (audio only) \n\n\n+1 406-272-9506\,\,644495523#   United States\, Billings \n\n\n(866) 790-3305\,\,644495523#   United States (Toll-free) \n\n\nPhone Conference ID: 644 495 523# \n\nFind a local number | Reset PIN
URL:https://helenaschools.org/event/health-benefits-committee-02-24-22/
LOCATION:Microsoft Teams\, Helena\, MT\, 59601\, United States
CATEGORIES:Board of Trustees Meeting,District Schedule,Health & Benefits Committee Meetings
ORGANIZER;CN="Board of Trustees":MAILTO:boardoftrustees@helenaschools.org
END:VEVENT
BEGIN:VEVENT
DTSTART;TZID=America/Denver:20220203T154500
DTEND;TZID=America/Denver:20220203T163000
DTSTAMP:20260422T204058
CREATED:20220121T174236Z
LAST-MODIFIED:20250102T193554Z
UID:10005854-1643903100-1643905800@helenaschools.org
SUMMARY:Health Benefits Committee Meeting 02.03.22
DESCRIPTION:
URL:https://helenaschools.org/event/health-benefits-committee-meeting-02-03-22/
LOCATION:Microsoft Teams\, Helena\, MT\, 59601\, United States
CATEGORIES:Board of Trustees Meeting,District Schedule,Health & Benefits Committee Meetings
END:VEVENT
BEGIN:VEVENT
DTSTART;TZID=America/Denver:20211214T154500
DTEND;TZID=America/Denver:20211214T173000
DTSTAMP:20260422T204058
CREATED:20211129T220035Z
LAST-MODIFIED:20250102T214952Z
UID:10005838-1639496700-1639503000@helenaschools.org
SUMMARY:Health Benefits Committee Meeting 12.14.21
DESCRIPTION:Microsoft Teams meeting \nJoin on your computer or mobile app \nClick here to join the meeting \nOr call in (audio only) \n+1 406-272-9506\,\,481423657#   United States\, Billings \n(866) 790-3305\,\,481423657#   United States (Toll-free) \nPhone Conference ID: 481 423 657# \nFind a local number | Reset PIN \nLearn More | Meeting options \n  \n 
URL:https://helenaschools.org/event/health-benefits-committee-meeting-12-14-21/
LOCATION:MT
CATEGORIES:District Schedule,Health & Benefits Committee Meetings
END:VEVENT
BEGIN:VEVENT
DTSTART;TZID=America/Denver:20211104T154500
DTEND;TZID=America/Denver:20211104T170000
DTSTAMP:20260422T204058
CREATED:20211025T162543Z
LAST-MODIFIED:20211025T182058Z
UID:10005830-1636040700-1636045200@helenaschools.org
SUMMARY:Health Benefits Committee Meeting
DESCRIPTION:Agenda 11.04.21 Updated
URL:https://helenaschools.org/event/health-benefits-committee-meeting/
LOCATION:Microsoft Teams\, Helena\, MT\, 59601\, United States
CATEGORIES:District Schedule,Health & Benefits Committee Meetings
END:VEVENT
BEGIN:VEVENT
DTSTART;TZID=America/Denver:20210921T154500
DTEND;TZID=America/Denver:20210921T170000
DTSTAMP:20260422T204058
CREATED:20210916T145229Z
LAST-MODIFIED:20210916T145256Z
UID:10005803-1632239100-1632243600@helenaschools.org
SUMMARY:Health Benefits Committee Meeting 9.21.21
DESCRIPTION:Microsoft Teams meeting \n\n\n\nJoin on your computer or mobile app \n\nClick here to join the meeting \n\n09.21.21 Health Benefits Committee Meeting Agenda
URL:https://helenaschools.org/event/health-benefits-committee-meeting-9-21-21/
LOCATION:Microsoft Teams\, Helena\, MT\, 59601\, United States
CATEGORIES:Health & Benefits Committee Meetings
END:VEVENT
END:VCALENDAR