BEGIN:VCALENDAR
VERSION:2.0
PRODID:-//Helena Public Schools - ECPv6.15.20//NONSGML v1.0//EN
CALSCALE:GREGORIAN
METHOD:PUBLISH
X-WR-CALNAME:Helena Public Schools
X-ORIGINAL-URL:https://helenaschools.org
X-WR-CALDESC:Events for Helena Public Schools
REFRESH-INTERVAL;VALUE=DURATION:PT1H
X-Robots-Tag:noindex
X-PUBLISHED-TTL:PT1H
BEGIN:VTIMEZONE
TZID:America/Denver
BEGIN:DAYLIGHT
TZOFFSETFROM:-0700
TZOFFSETTO:-0600
TZNAME:MDT
DTSTART:20220313T090000
END:DAYLIGHT
BEGIN:STANDARD
TZOFFSETFROM:-0600
TZOFFSETTO:-0700
TZNAME:MST
DTSTART:20221106T080000
END:STANDARD
BEGIN:DAYLIGHT
TZOFFSETFROM:-0700
TZOFFSETTO:-0600
TZNAME:MDT
DTSTART:20230312T090000
END:DAYLIGHT
BEGIN:STANDARD
TZOFFSETFROM:-0600
TZOFFSETTO:-0700
TZNAME:MST
DTSTART:20231105T080000
END:STANDARD
BEGIN:DAYLIGHT
TZOFFSETFROM:-0700
TZOFFSETTO:-0600
TZNAME:MDT
DTSTART:20240310T090000
END:DAYLIGHT
BEGIN:STANDARD
TZOFFSETFROM:-0600
TZOFFSETTO:-0700
TZNAME:MST
DTSTART:20241103T080000
END:STANDARD
BEGIN:DAYLIGHT
TZOFFSETFROM:-0700
TZOFFSETTO:-0600
TZNAME:MDT
DTSTART:20250309T090000
END:DAYLIGHT
BEGIN:STANDARD
TZOFFSETFROM:-0600
TZOFFSETTO:-0700
TZNAME:MST
DTSTART:20251102T080000
END:STANDARD
END:VTIMEZONE
BEGIN:VEVENT
DTSTART;TZID=America/Denver:20240403T120000
DTEND;TZID=America/Denver:20240403T130000
DTSTAMP:20260421T231810
CREATED:20240321T175408Z
LAST-MODIFIED:20240507T205559Z
UID:10006282-1712145600-1712149200@helenaschools.org
SUMMARY:Teaching and Learning Committee Meeting 4.3.24
DESCRIPTION:
URL:https://helenaschools.org/event/teaching-and-learning-committee-meeting-4-3-24/
LOCATION:Lincoln Center\, 1325 Poplar St\, Helena\, MT\, 59601\, United States
CATEGORIES:Board of Trustees Meeting,Teaching and Learning Committee
ORGANIZER;CN="Board of Trustees":MAILTO:boardoftrustees@helenaschools.org
END:VEVENT
BEGIN:VEVENT
DTSTART;TZID=America/Denver:20240402T120000
DTEND;TZID=America/Denver:20240402T130000
DTSTAMP:20260421T231811
CREATED:20240321T175004Z
LAST-MODIFIED:20240507T205936Z
UID:10006281-1712059200-1712062800@helenaschools.org
SUMMARY:Policy Committee Meeting 4.2.24
DESCRIPTION:
URL:https://helenaschools.org/event/policy-committee-meeting-4-2-24/
LOCATION:Lincoln Center\, 1325 Poplar St\, Helena\, MT\, 59601\, United States
CATEGORIES:Board of Trustees Meeting,District Schedule,Policy Committee
ORGANIZER;CN="Board of Trustees":MAILTO:boardoftrustees@helenaschools.org
END:VEVENT
BEGIN:VEVENT
DTSTART;TZID=America/Denver:20240319T153000
DTEND;TZID=America/Denver:20240319T170000
DTSTAMP:20260421T231811
CREATED:20240229T230656Z
LAST-MODIFIED:20240513T215538Z
UID:10006280-1710862200-1710867600@helenaschools.org
SUMMARY:Board of Trustees Work Session At Warren Elementary 03.19.24
DESCRIPTION:
URL:https://helenaschools.org/event/board-of-trustees-work-session-at-warren-elementary-03-19-24/
LOCATION:Warren Elementary\, 2690 Old York Rd\, Helena\, MT\, 59602\, United States
CATEGORIES:Board of Trustees Meeting,District Schedule,Work Session
ORGANIZER;CN="Board of Trustees":MAILTO:boardoftrustees@helenaschools.org
END:VEVENT
BEGIN:VEVENT
DTSTART;TZID=America/Denver:20240312T173000
DTEND;TZID=America/Denver:20240312T203000
DTSTAMP:20260421T231811
CREATED:20240229T230413Z
LAST-MODIFIED:20240513T204904Z
UID:10006279-1710264600-1710275400@helenaschools.org
SUMMARY:Full Board of Trustees Meeting 03.12.24
DESCRIPTION:
URL:https://helenaschools.org/event/full-board-of-trustees-meeting-03-12-24/
LOCATION:Lincoln Center\, 1325 Poplar St\, Helena\, MT\, 59601\, United States
CATEGORIES:Board of Trustees Meeting,District Schedule,Full Board Meeting
ORGANIZER;CN="Board of Trustees":MAILTO:boardoftrustees@helenaschools.org
END:VEVENT
BEGIN:VEVENT
DTSTART;TZID=America/Denver:20240312T110000
DTEND;TZID=America/Denver:20240312T120000
DTSTAMP:20260421T231811
CREATED:20240229T230011Z
LAST-MODIFIED:20240309T022246Z
UID:10006278-1710241200-1710244800@helenaschools.org
SUMMARY:Executive Committee Meeting 03.12.24
DESCRIPTION:
URL:https://helenaschools.org/event/executive-committee-meeting-03-12-24/
LOCATION:Lincoln Center\, 1325 Poplar St\, Helena\, MT\, 59601\, United States
CATEGORIES:Board of Trustees Meeting,District Schedule,Executive Session
ORGANIZER;CN="Board of Trustees":MAILTO:boardoftrustees@helenaschools.org
END:VEVENT
BEGIN:VEVENT
DTSTART;TZID=America/Denver:20240311T130000
DTEND;TZID=America/Denver:20240311T140000
DTSTAMP:20260421T231811
CREATED:20240229T225850Z
LAST-MODIFIED:20240420T223246Z
UID:10006277-1710162000-1710165600@helenaschools.org
SUMMARY:Facilities and Maintenance Committee Meeting 03.11.24
DESCRIPTION:
URL:https://helenaschools.org/event/facilities-and-maintenance-committee-meeting-03-11-24/
LOCATION:Lincoln Center\, 1325 Poplar St\, Helena\, MT\, 59601\, United States
CATEGORIES:Board of Trustees Meeting,District Schedule,Facilities and Maintenance Committee
ORGANIZER;CN="Board of Trustees":MAILTO:boardoftrustees@helenaschools.org
END:VEVENT
BEGIN:VEVENT
DTSTART;TZID=America/Denver:20240307T160000
DTEND;TZID=America/Denver:20240307T180000
DTSTAMP:20260421T231811
CREATED:20240229T225514Z
LAST-MODIFIED:20240304T224958Z
UID:10006276-1709827200-1709834400@helenaschools.org
SUMMARY:Facilities Master Plan Key Stakeholder Meeting 03.07.24
DESCRIPTION:
URL:https://helenaschools.org/event/facilities-master-plan-key-stakeholder-meeting-03-07-24/
LOCATION:Lincoln Center\, 1325 Poplar St\, Helena\, MT\, 59601\, United States
CATEGORIES:District Schedule
END:VEVENT
BEGIN:VEVENT
DTSTART;TZID=America/Denver:20240306T120000
DTEND;TZID=America/Denver:20240306T130000
DTSTAMP:20260421T231811
CREATED:20240229T225328Z
LAST-MODIFIED:20240420T170358Z
UID:10006275-1709726400-1709730000@helenaschools.org
SUMMARY:Teaching and Learning Committee Meeting 03.06.24
DESCRIPTION:
URL:https://helenaschools.org/event/teaching-and-learning-committee-meeting-03-06-24/
LOCATION:Lincoln Center\, 1325 Poplar St\, Helena\, MT\, 59601\, United States
CATEGORIES:Board of Trustees Meeting,District Schedule,Teaching and Learning Committee
ORGANIZER;CN="Board of Trustees":MAILTO:boardoftrustees@helenaschools.org
END:VEVENT
BEGIN:VEVENT
DTSTART;TZID=America/Denver:20240305T130000
DTEND;TZID=America/Denver:20240305T140000
DTSTAMP:20260421T231811
CREATED:20240229T225204Z
LAST-MODIFIED:20240422T203722Z
UID:10006274-1709643600-1709647200@helenaschools.org
SUMMARY:Budget and Finance Committee Meeting 03.05.24
DESCRIPTION:
URL:https://helenaschools.org/event/budget-and-finance-committee-meeting-03-05-24/
LOCATION:Lincoln Center\, 1325 Poplar St\, Helena\, MT\, 59601\, United States
CATEGORIES:Board of Trustees Meeting,Budget and Finance Committee,District Schedule
ORGANIZER;CN="Board of Trustees":MAILTO:boardoftrustees@helenaschools.org
END:VEVENT
BEGIN:VEVENT
DTSTART;TZID=America/Denver:20240305T120000
DTEND;TZID=America/Denver:20240305T130000
DTSTAMP:20260421T231811
CREATED:20240229T224017Z
LAST-MODIFIED:20240507T205818Z
UID:10006272-1709640000-1709643600@helenaschools.org
SUMMARY:Policy Committee Meeting 03.05.24
DESCRIPTION:
URL:https://helenaschools.org/event/policy-committee-meeting-03-05-24/
LOCATION:Lincoln Center\, 1325 Poplar St\, Helena\, MT\, 59601\, United States
CATEGORIES:Board of Trustees Meeting,Policy Committee
ORGANIZER;CN="Board of Trustees":MAILTO:boardoftrustees@helenaschools.org
END:VEVENT
BEGIN:VEVENT
DTSTART;TZID=America/Denver:20240224T120000
DTEND;TZID=America/Denver:20240224T130000
DTSTAMP:20260421T231811
CREATED:20240222T182755Z
LAST-MODIFIED:20240327T144947Z
UID:10006271-1708776000-1708779600@helenaschools.org
SUMMARY:Board of Trustees Special Board Meeting 02.24.24
DESCRIPTION:
URL:https://helenaschools.org/event/board-of-trustees-special-board-meeting-02-24-24/
LOCATION:Microsoft Teams\, Helena\, MT\, 59601\, United States
CATEGORIES:Board of Trustees Meeting,Special Meeting
ORGANIZER;CN="Board of Trustees":MAILTO:boardoftrustees@helenaschools.org
END:VEVENT
BEGIN:VEVENT
DTSTART;TZID=America/Denver:20240220T173000
DTEND;TZID=America/Denver:20240220T203000
DTSTAMP:20260421T231811
CREATED:20240216T151853Z
LAST-MODIFIED:20240327T144824Z
UID:10006270-1708450200-1708461000@helenaschools.org
SUMMARY:Board of Trustees Special Board Meeting 02.20.24
DESCRIPTION:
URL:https://helenaschools.org/event/board-of-trustees-special-board-meeting-02-20-24/
LOCATION:Lincoln Center\, 1325 Poplar St\, Helena\, MT\, 59601\, United States
CATEGORIES:Board of Trustees Meeting,Special Meeting
ORGANIZER;CN="Board of Trustees":MAILTO:boardoftrustees@helenaschools.org
END:VEVENT
BEGIN:VEVENT
DTSTART;TZID=America/Denver:20240215T154500
DTEND;TZID=America/Denver:20240215T170000
DTSTAMP:20260421T231811
CREATED:20240208T211847Z
LAST-MODIFIED:20240208T211901Z
UID:10006269-1708011900-1708016400@helenaschools.org
SUMMARY:Health Benefits Committee Meeting 02.15.24
DESCRIPTION:
URL:https://helenaschools.org/event/health-benefits-committee-meeting-02-15-24/
LOCATION:Lincoln Center\, 1325 Poplar St\, Helena\, MT\, 59601\, United States
CATEGORIES:Health & Benefits Committee Meetings
END:VEVENT
BEGIN:VEVENT
DTSTART;TZID=America/Denver:20240213T173000
DTEND;TZID=America/Denver:20240213T203000
DTSTAMP:20260421T231811
CREATED:20240112T210841Z
LAST-MODIFIED:20240326T192814Z
UID:10006261-1707845400-1707856200@helenaschools.org
SUMMARY:Board of Trustees Full Board Meeting 02.13.24
DESCRIPTION:
URL:https://helenaschools.org/event/board-of-trustees-full-board-meeting-02-13-24/
LOCATION:Lincoln Center\, 1325 Poplar St\, Helena\, MT\, 59601\, United States
CATEGORIES:Board of Trustees Meeting,District Schedule,Full Board Meeting
END:VEVENT
BEGIN:VEVENT
DTSTART;TZID=America/Denver:20240213T120000
DTEND;TZID=America/Denver:20240213T130000
DTSTAMP:20260421T231811
CREATED:20240112T214236Z
LAST-MODIFIED:20240318T204600Z
UID:10006267-1707825600-1707829200@helenaschools.org
SUMMARY:Budget & Finance Committee Meeting 02.13.24
DESCRIPTION:
URL:https://helenaschools.org/event/budget-finance-committee-meeting-02-13-24/
LOCATION:Lincoln Center\, 1325 Poplar St\, Helena\, MT\, 59601\, United States
CATEGORIES:Board of Trustees Meeting,Budget and Finance Committee
ORGANIZER;CN="Board of Trustees":MAILTO:boardoftrustees@helenaschools.org
END:VEVENT
BEGIN:VEVENT
DTSTART;TZID=America/Denver:20240213T110000
DTEND;TZID=America/Denver:20240213T120000
DTSTAMP:20260421T231811
CREATED:20240112T213723Z
LAST-MODIFIED:20240321T170727Z
UID:10006266-1707822000-1707825600@helenaschools.org
SUMMARY:Executive Committee Meeting 02.13.24
DESCRIPTION:
URL:https://helenaschools.org/event/executive-committee-meeting-02-13-24/
LOCATION:Lincoln Center\, 1325 Poplar St\, Helena\, MT\, 59601\, United States
CATEGORIES:Board of Trustees Meeting,District Schedule,Executive Session
ORGANIZER;CN="Board of Trustees":MAILTO:boardoftrustees@helenaschools.org
END:VEVENT
BEGIN:VEVENT
DTSTART;TZID=America/Denver:20240212T120000
DTEND;TZID=America/Denver:20240212T130000
DTSTAMP:20260421T231811
CREATED:20240112T212601Z
LAST-MODIFIED:20240320T173559Z
UID:10006265-1707739200-1707742800@helenaschools.org
SUMMARY:Facilities & Maintenance Committee Meeting 02.12.24
DESCRIPTION:
URL:https://helenaschools.org/event/facilities-maintenance-committee-meeting-02-12-24/
LOCATION:Lincoln Center\, 1325 Poplar St\, Helena\, MT\, 59601\, United States
CATEGORIES:Board of Trustees Meeting,District Schedule,Facilities and Maintenance Committee
ORGANIZER;CN="Board of Trustees":MAILTO:boardoftrustees@helenaschools.org
END:VEVENT
BEGIN:VEVENT
DTSTART;TZID=America/Denver:20240207T160000
DTEND;TZID=America/Denver:20240207T180000
DTSTAMP:20260421T231811
CREATED:20240201T203851Z
LAST-MODIFIED:20240202T213119Z
UID:10006268-1707321600-1707328800@helenaschools.org
SUMMARY:Budget Consensus Recommendation Committee Meeting 02.07.24
DESCRIPTION:
URL:https://helenaschools.org/event/budget-consensus-recommendation-committee-meeting-02-07-24/
LOCATION:Lincoln Center\, 1325 Poplar St\, Helena\, MT\, 59601\, United States
CATEGORIES:District Schedule
END:VEVENT
BEGIN:VEVENT
DTSTART;TZID=America/Denver:20240207T120000
DTEND;TZID=America/Denver:20240207T130000
DTSTAMP:20260421T231811
CREATED:20240112T212422Z
LAST-MODIFIED:20240207T160330Z
UID:10006264-1707307200-1707310800@helenaschools.org
SUMMARY:*Canceled* Teaching & Learning Committee Meeting 02.07.24
DESCRIPTION:
URL:https://helenaschools.org/event/teaching-learning-committee-meeting-02-07-24/
LOCATION:Lincoln Center\, 1325 Poplar St\, Helena\, MT\, 59601\, United States
CATEGORIES:Board of Trustees Meeting,District Schedule,Teaching and Learning Committee
END:VEVENT
BEGIN:VEVENT
DTSTART;TZID=America/Denver:20240206T120000
DTEND;TZID=America/Denver:20240206T130000
DTSTAMP:20260421T231811
CREATED:20240112T212257Z
LAST-MODIFIED:20240314T192133Z
UID:10006263-1707220800-1707224400@helenaschools.org
SUMMARY:Policy Committee Meeting 02.06.24
DESCRIPTION:
URL:https://helenaschools.org/event/policy-committee-meeting-02-06-24/
LOCATION:Lincoln Center\, 1325 Poplar St\, Helena\, MT\, 59601\, United States
CATEGORIES:Board of Trustees Meeting,District Schedule,Policy Committee
ORGANIZER;CN="Board of Trustees":MAILTO:boardoftrustees@helenaschools.org
END:VEVENT
BEGIN:VEVENT
DTSTART;TZID=America/Denver:20240131T160000
DTEND;TZID=America/Denver:20240131T180000
DTSTAMP:20260421T231811
CREATED:20240112T211548Z
LAST-MODIFIED:20240126T170918Z
UID:10006262-1706716800-1706724000@helenaschools.org
SUMMARY:Budget Consensus Recommendation Committee Meeting 01.31.24
DESCRIPTION:
URL:https://helenaschools.org/event/budget-consensus-recommendation-committee-meeting-01-31-24/
LOCATION:Lincoln Center\, 1325 Poplar St\, Helena\, MT\, 59601\, United States
CATEGORIES:District Schedule
END:VEVENT
BEGIN:VEVENT
DTSTART;TZID=America/Denver:20240123T113000
DTEND;TZID=America/Denver:20240123T130000
DTSTAMP:20260421T231811
CREATED:20231214T221556Z
LAST-MODIFIED:20240410T150836Z
UID:10006259-1706009400-1706014800@helenaschools.org
SUMMARY:Board of Trustees Work Session 01.23.24
DESCRIPTION:
URL:https://helenaschools.org/event/board-of-trustees-work-session-01-23-24/
LOCATION:Jefferson Elementary School\, 1023 Broadway\, Helena\, MT\, 59601\, United States
CATEGORIES:Board of Trustees Meeting,District Schedule,Work Session
ORGANIZER;CN="Board of Trustees":MAILTO:boardoftrustees@helenaschools.org
END:VEVENT
BEGIN:VEVENT
DTSTART;TZID=America/Denver:20240110T160000
DTEND;TZID=America/Denver:20240110T180000
DTSTAMP:20260421T231811
CREATED:20240105T154445Z
LAST-MODIFIED:20240105T154445Z
UID:10006260-1704902400-1704909600@helenaschools.org
SUMMARY:Budget Consensus Recommendation Committee Meeting 01.10.24
DESCRIPTION:
URL:https://helenaschools.org/event/budget-consensus-recommendation-committee-meeting-01-10-24/
LOCATION:Lincoln Center\, 1325 Poplar St\, Helena\, MT\, 59601\, United States
CATEGORIES:District Schedule
END:VEVENT
BEGIN:VEVENT
DTSTART;TZID=America/Denver:20240109T173000
DTEND;TZID=America/Denver:20240109T203000
DTSTAMP:20260421T231811
CREATED:20231214T221346Z
LAST-MODIFIED:20240215T191006Z
UID:10006258-1704821400-1704832200@helenaschools.org
SUMMARY:Board of Trustees Full Board Meeting 01.09.24
DESCRIPTION:
URL:https://helenaschools.org/event/board-of-trustees-full-board-meeting-01-09-24/
LOCATION:Lincoln Center\, 1325 Poplar St\, Helena\, MT\, 59601\, United States
CATEGORIES:Board of Trustees Meeting,District Schedule,Full Board Meeting
ORGANIZER;CN="Board of Trustees":MAILTO:boardoftrustees@helenaschools.org
END:VEVENT
BEGIN:VEVENT
DTSTART;TZID=America/Denver:20240109T120000
DTEND;TZID=America/Denver:20240109T130000
DTSTAMP:20260421T231811
CREATED:20231214T221137Z
LAST-MODIFIED:20240215T190915Z
UID:10006257-1704801600-1704805200@helenaschools.org
SUMMARY:Budget & Finance Committee Meeting 01.09.24
DESCRIPTION:
URL:https://helenaschools.org/event/budget-finance-committee-meeting-01-09-24/
LOCATION:Lincoln Center\, 1325 Poplar St\, Helena\, MT\, 59601\, United States
CATEGORIES:Board of Trustees Meeting,Budget and Finance Committee,District Schedule
ORGANIZER;CN="Board of Trustees":MAILTO:boardoftrustees@helenaschools.org
END:VEVENT
BEGIN:VEVENT
DTSTART;TZID=America/Denver:20240109T110000
DTEND;TZID=America/Denver:20240109T120000
DTSTAMP:20260421T231811
CREATED:20231214T220605Z
LAST-MODIFIED:20240215T190748Z
UID:10006256-1704798000-1704801600@helenaschools.org
SUMMARY:Executive Committee Meeting 01.09.24
DESCRIPTION:
URL:https://helenaschools.org/event/executive-committee-meeting-01-09-23/
LOCATION:Lincoln Center\, 1325 Poplar St\, Helena\, MT\, 59601\, United States
CATEGORIES:Board of Trustees Meeting,District Schedule,Executive Session
END:VEVENT
BEGIN:VEVENT
DTSTART;TZID=America/Denver:20240108T120000
DTEND;TZID=America/Denver:20240108T130000
DTSTAMP:20260421T231811
CREATED:20231214T220317Z
LAST-MODIFIED:20240215T190131Z
UID:10006255-1704715200-1704718800@helenaschools.org
SUMMARY:Facilities & Maintenance Committee Meeting 01.08.24
DESCRIPTION:
URL:https://helenaschools.org/event/facilities-maintenance-committee-meeting-01-08-24/
LOCATION:Lincoln Center\, 1325 Poplar St\, Helena\, MT\, 59601\, United States
CATEGORIES:Board of Trustees Meeting,District Schedule,Facilities and Maintenance Committee
ORGANIZER;CN="Board of Trustees":MAILTO:boardoftrustees@helenaschools.org
END:VEVENT
BEGIN:VEVENT
DTSTART;TZID=America/Denver:20240103T120000
DTEND;TZID=America/Denver:20240103T130000
DTSTAMP:20260421T231811
CREATED:20231214T220129Z
LAST-MODIFIED:20240313T144712Z
UID:10006254-1704283200-1704286800@helenaschools.org
SUMMARY:Teaching & Learning Committee Meeting 01.03.24
DESCRIPTION:
URL:https://helenaschools.org/event/01-03-24-teaching-learning-committee-meeting/
LOCATION:Lincoln Center\, 1325 Poplar St\, Helena\, MT\, 59601\, United States
CATEGORIES:Board of Trustees Meeting,District Schedule,Teaching and Learning Committee
ORGANIZER;CN="Board of Trustees":MAILTO:boardoftrustees@helenaschools.org
END:VEVENT
BEGIN:VEVENT
DTSTART;TZID=America/Denver:20240102T120000
DTEND;TZID=America/Denver:20240102T130000
DTSTAMP:20260421T231811
CREATED:20231214T215824Z
LAST-MODIFIED:20240215T184829Z
UID:10006253-1704196800-1704200400@helenaschools.org
SUMMARY:Policy Committee Meeting 01.02.24
DESCRIPTION:
URL:https://helenaschools.org/event/policy-committee-meeting-01-02-24/
LOCATION:Lincoln Center\, 1325 Poplar St\, Helena\, MT\, 59601\, United States
CATEGORIES:Board of Trustees Meeting,District Schedule,Policy Committee
ORGANIZER;CN="Board of Trustees":MAILTO:boardoftrustees@helenaschools.org
END:VEVENT
BEGIN:VEVENT
DTSTART;TZID=America/Denver:20231220T160000
DTEND;TZID=America/Denver:20231220T180000
DTSTAMP:20260421T231811
CREATED:20231121T202229Z
LAST-MODIFIED:20231227T170001Z
UID:10006252-1703088000-1703095200@helenaschools.org
SUMMARY:*POSTPONED* Budget Consensus Recommendation Committee Meeting 12.20.23
DESCRIPTION:
URL:https://helenaschools.org/event/budget-consensus-recommendation-committee-meeting-12-13-23/
LOCATION:Lincoln Center\, 1325 Poplar St\, Helena\, MT\, 59601\, United States
CATEGORIES:District Schedule,Special Meeting
END:VEVENT
END:VCALENDAR