BEGIN:VCALENDAR
VERSION:2.0
PRODID:-//Helena Public Schools - ECPv6.15.20//NONSGML v1.0//EN
CALSCALE:GREGORIAN
METHOD:PUBLISH
X-WR-CALNAME:Helena Public Schools
X-ORIGINAL-URL:https://helenaschools.org
X-WR-CALDESC:Events for Helena Public Schools
REFRESH-INTERVAL;VALUE=DURATION:PT1H
X-Robots-Tag:noindex
X-PUBLISHED-TTL:PT1H
BEGIN:VTIMEZONE
TZID:America/Denver
BEGIN:DAYLIGHT
TZOFFSETFROM:-0700
TZOFFSETTO:-0600
TZNAME:MDT
DTSTART:20160313T090000
END:DAYLIGHT
BEGIN:STANDARD
TZOFFSETFROM:-0600
TZOFFSETTO:-0700
TZNAME:MST
DTSTART:20161106T080000
END:STANDARD
BEGIN:DAYLIGHT
TZOFFSETFROM:-0700
TZOFFSETTO:-0600
TZNAME:MDT
DTSTART:20170312T090000
END:DAYLIGHT
BEGIN:STANDARD
TZOFFSETFROM:-0600
TZOFFSETTO:-0700
TZNAME:MST
DTSTART:20171105T080000
END:STANDARD
BEGIN:DAYLIGHT
TZOFFSETFROM:-0700
TZOFFSETTO:-0600
TZNAME:MDT
DTSTART:20180311T090000
END:DAYLIGHT
BEGIN:STANDARD
TZOFFSETFROM:-0600
TZOFFSETTO:-0700
TZNAME:MST
DTSTART:20181104T080000
END:STANDARD
BEGIN:DAYLIGHT
TZOFFSETFROM:-0700
TZOFFSETTO:-0600
TZNAME:MDT
DTSTART:20190310T090000
END:DAYLIGHT
BEGIN:STANDARD
TZOFFSETFROM:-0600
TZOFFSETTO:-0700
TZNAME:MST
DTSTART:20191103T080000
END:STANDARD
END:VTIMEZONE
BEGIN:VEVENT
DTSTART;TZID=America/Denver:20180406T120000
DTEND;TZID=America/Denver:20180406T130000
DTSTAMP:20260425T063958
CREATED:20200507T203021Z
LAST-MODIFIED:20200507T204811Z
UID:10005238-1523016000-1523019600@helenaschools.org
SUMMARY:Budget Committee Meeting Agenda - 04.06.18
DESCRIPTION:
URL:https://helenaschools.org/event/budget-committee-meeting-agenda-04-06-18/
LOCATION:Lincoln Center\, 1325 Poplar St\, Helena\, MT\, 59601\, United States
CATEGORIES:Budget and Finance Committee
END:VEVENT
BEGIN:VEVENT
DTSTART;TZID=America/Denver:20180405T120000
DTEND;TZID=America/Denver:20180405T130000
DTSTAMP:20260425T063958
CREATED:20200507T203023Z
LAST-MODIFIED:20200507T204809Z
UID:10005249-1522929600-1522933200@helenaschools.org
SUMMARY:Special Board Meeting - 04.05.18
DESCRIPTION:
URL:https://helenaschools.org/event/special-board-meeting-04-05-18/
LOCATION:Lincoln Center\, 1325 Poplar St\, Helena\, MT\, 59601\, United States
CATEGORIES:Special Meeting
END:VEVENT
BEGIN:VEVENT
DTSTART;TZID=America/Denver:20180403T120000
DTEND;TZID=America/Denver:20180403T130000
DTSTAMP:20260425T063958
CREATED:20200507T203017Z
LAST-MODIFIED:20200507T204808Z
UID:10005185-1522756800-1522760400@helenaschools.org
SUMMARY:Board of Trustees Policy Committee Meeting - 04.03.18
DESCRIPTION:
URL:https://helenaschools.org/event/board-of-trustees-policy-committee-meeting-04-03-18/
LOCATION:Lincoln Center\, 1325 Poplar St\, Helena\, MT\, 59601\, United States
CATEGORIES:Policy Committee
END:VEVENT
BEGIN:VEVENT
DTSTART;TZID=America/Denver:20180320T153000
DTEND;TZID=America/Denver:20180320T170000
DTSTAMP:20260425T063958
CREATED:20200507T203019Z
LAST-MODIFIED:20200507T204807Z
UID:10005216-1521559800-1521565200@helenaschools.org
SUMMARY:Board of Trustees Work Session - 03.20.18
DESCRIPTION:
URL:https://helenaschools.org/event/board-of-trustees-work-session-03-20-18/
LOCATION:Lincoln Center\, 1325 Poplar St\, Helena\, MT\, 59601\, United States
CATEGORIES:Work Session
END:VEVENT
BEGIN:VEVENT
DTSTART;TZID=America/Denver:20180320T110000
DTEND;TZID=America/Denver:20180320T123000
DTSTAMP:20260425T063958
CREATED:20200507T203010Z
LAST-MODIFIED:20200507T204806Z
UID:10005121-1521543600-1521549000@helenaschools.org
SUMMARY:Board of Trustees Executive Session - 03.20.18
DESCRIPTION:
URL:https://helenaschools.org/event/board-of-trustees-executive-session-03-20-18/
LOCATION:Lincoln Center\, 1325 Poplar St\, Helena\, MT\, 59601\, United States
CATEGORIES:Executive Session
END:VEVENT
BEGIN:VEVENT
DTSTART;TZID=America/Denver:20180315T090000
DTEND;TZID=America/Denver:20180315T160000
DTSTAMP:20260425T063958
CREATED:20200507T203017Z
LAST-MODIFIED:20200507T204805Z
UID:10005203-1521104400-1521129600@helenaschools.org
SUMMARY:Board of Trustees Special Meeting - 03.15.18
DESCRIPTION:
URL:https://helenaschools.org/event/board-of-trustees-special-meeting-03-15-18/
LOCATION:Lincoln Center\, 1325 Poplar St\, Helena\, MT\, 59601\, United States
CATEGORIES:Special Meeting
END:VEVENT
BEGIN:VEVENT
DTSTART;TZID=America/Denver:20180313T173000
DTEND;TZID=America/Denver:20180313T190000
DTSTAMP:20260425T063958
CREATED:20200507T203013Z
LAST-MODIFIED:20200708T142146Z
UID:10005149-1520962200-1520967600@helenaschools.org
SUMMARY:Board of Trustees Meeting - 03.13.18
DESCRIPTION:
URL:https://helenaschools.org/event/board-of-trustees-meeting-03-13-18/
LOCATION:Lincoln Center\, 1325 Poplar St\, Helena\, MT\, 59601\, United States
CATEGORIES:Board of Trustees Meeting,Full Board Meeting
END:VEVENT
BEGIN:VEVENT
DTSTART;TZID=America/Denver:20180313T110000
DTEND;TZID=America/Denver:20180313T123000
DTSTAMP:20260425T063958
CREATED:20200507T203021Z
LAST-MODIFIED:20200507T204804Z
UID:10005239-1520938800-1520944200@helenaschools.org
SUMMARY:Executive Committee Meeting - 03.13.18
DESCRIPTION:
URL:https://helenaschools.org/event/executive-committee-meeting-03-13-18/
LOCATION:Lincoln Center\, 1325 Poplar St\, Helena\, MT\, 59601\, United States
CATEGORIES:Executive Session
END:VEVENT
BEGIN:VEVENT
DTSTART;TZID=America/Denver:20180309T120000
DTEND;TZID=America/Denver:20180309T133000
DTSTAMP:20260425T063958
CREATED:20200507T203021Z
LAST-MODIFIED:20200507T204804Z
UID:10005236-1520596800-1520602200@helenaschools.org
SUMMARY:Budget and Program Committee Meeting - 03.09.18
DESCRIPTION:
URL:https://helenaschools.org/event/budget-and-program-committee-meeting-03-09-18/
LOCATION:Lincoln Center\, 1325 Poplar St\, Helena\, MT\, 59601\, United States
CATEGORIES:Budget and Finance Committee
END:VEVENT
BEGIN:VEVENT
DTSTART;TZID=America/Denver:20180308T084500
DTEND;TZID=America/Denver:20180308T173000
DTSTAMP:20260425T063958
CREATED:20200507T203017Z
LAST-MODIFIED:20200507T204802Z
UID:10005202-1520498700-1520530200@helenaschools.org
SUMMARY:Board of Trustees Special Meeting - 03.08.18
DESCRIPTION:
URL:https://helenaschools.org/event/board-of-trustees-special-meeting-03-08-18/
LOCATION:Lincoln Center\, 1325 Poplar St\, Helena\, MT\, 59601\, United States
CATEGORIES:Special Meeting
END:VEVENT
BEGIN:VEVENT
DTSTART;TZID=America/Denver:20180307T134500
DTEND;TZID=America/Denver:20180307T200000
DTSTAMP:20260425T063958
CREATED:20200507T203017Z
LAST-MODIFIED:20200507T204800Z
UID:10005201-1520430300-1520452800@helenaschools.org
SUMMARY:Board of Trustees Special Meeting - 03.07.18
DESCRIPTION:
URL:https://helenaschools.org/event/board-of-trustees-special-meeting-03-07-18/
LOCATION:Lincoln Center\, 1325 Poplar St\, Helena\, MT\, 59601\, United States
CATEGORIES:Special Meeting
END:VEVENT
BEGIN:VEVENT
DTSTART;TZID=America/Denver:20180227T153000
DTEND;TZID=America/Denver:20180227T170000
DTSTAMP:20260425T063958
CREATED:20200507T203021Z
LAST-MODIFIED:20200507T204800Z
UID:10005233-1519745400-1519750800@helenaschools.org
SUMMARY:Board Work Session - 02.27.18
DESCRIPTION:
URL:https://helenaschools.org/event/board-work-session-02-27-18/
LOCATION:Lincoln Center\, 1325 Poplar St\, Helena\, MT\, 59601\, United States
CATEGORIES:Work Session
END:VEVENT
BEGIN:VEVENT
DTSTART;TZID=America/Denver:20180227T110000
DTEND;TZID=America/Denver:20180227T123000
DTSTAMP:20260425T063958
CREATED:20200507T203021Z
LAST-MODIFIED:20200507T204758Z
UID:10005241-1519729200-1519734600@helenaschools.org
SUMMARY:Executive Committee Meeting - 02.27.18
DESCRIPTION:
URL:https://helenaschools.org/event/executive-committee-meeting-02-27-18/
LOCATION:Lincoln Center\, 1325 Poplar St\, Helena\, MT\, 59601\, United States
CATEGORIES:Executive Session
END:VEVENT
BEGIN:VEVENT
DTSTART;TZID=America/Denver:20180221T110000
DTEND;TZID=America/Denver:20180221T140000
DTSTAMP:20260425T063958
CREATED:20200507T203019Z
LAST-MODIFIED:20200507T204758Z
UID:10005208-1519210800-1519221600@helenaschools.org
SUMMARY:Board of Trustees Special Meeting Agenda - 02.21.18
DESCRIPTION:
URL:https://helenaschools.org/event/board-of-trustees-special-meeting-agenda-02-21-18/
LOCATION:Lincoln Center\, 1325 Poplar St\, Helena\, MT\, 59601\, United States
CATEGORIES:Special Meeting
END:VEVENT
BEGIN:VEVENT
DTSTART;TZID=America/Denver:20180216T100000
DTEND;TZID=America/Denver:20180216T110000
DTSTAMP:20260425T063958
CREATED:20200507T203023Z
LAST-MODIFIED:20200507T204757Z
UID:10005250-1518775200-1518778800@helenaschools.org
SUMMARY:Special Board Meeting Agenda - 02.16.18
DESCRIPTION:
URL:https://helenaschools.org/event/special-board-meeting-agenda-02-16-18/
LOCATION:Lincoln Center\, 1325 Poplar St\, Helena\, MT\, 59601\, United States
CATEGORIES:Special Meeting
END:VEVENT
BEGIN:VEVENT
DTSTART;TZID=America/Denver:20180213T110000
DTEND;TZID=America/Denver:20180213T123000
DTSTAMP:20260425T063958
CREATED:20200507T203021Z
LAST-MODIFIED:20200507T204755Z
UID:10005240-1518519600-1518525000@helenaschools.org
SUMMARY:Executive Committee Meeting - 02.13.18
DESCRIPTION:
URL:https://helenaschools.org/event/executive-committee-meeting-02-13-18/
LOCATION:Lincoln Center\, 1325 Poplar St\, Helena\, MT\, 59601\, United States
CATEGORIES:Executive Session
END:VEVENT
BEGIN:VEVENT
DTSTART;TZID=America/Denver:20170509T173000
DTEND;TZID=America/Denver:20170509T190000
DTSTAMP:20260425T063958
CREATED:20200507T203015Z
LAST-MODIFIED:20200708T142125Z
UID:10005174-1494351000-1494356400@helenaschools.org
SUMMARY:Board of Trustees Meeting Agenda - 05.09.17
DESCRIPTION:
URL:https://helenaschools.org/event/board-of-trustees-meeting-agenda-05-09-17/
LOCATION:Lincoln Center\, 1325 Poplar St\, Helena\, MT\, 59601\, United States
CATEGORIES:Board of Trustees Meeting,Full Board Meeting
END:VEVENT
END:VCALENDAR