BEGIN:VCALENDAR
VERSION:2.0
PRODID:-//Helena Public Schools - ECPv6.15.20//NONSGML v1.0//EN
CALSCALE:GREGORIAN
METHOD:PUBLISH
X-WR-CALNAME:Helena Public Schools
X-ORIGINAL-URL:https://helenaschools.org
X-WR-CALDESC:Events for Helena Public Schools
REFRESH-INTERVAL;VALUE=DURATION:PT1H
X-Robots-Tag:noindex
X-PUBLISHED-TTL:PT1H
BEGIN:VTIMEZONE
TZID:America/Denver
BEGIN:DAYLIGHT
TZOFFSETFROM:-0700
TZOFFSETTO:-0600
TZNAME:MDT
DTSTART:20230312T090000
END:DAYLIGHT
BEGIN:STANDARD
TZOFFSETFROM:-0600
TZOFFSETTO:-0700
TZNAME:MST
DTSTART:20231105T080000
END:STANDARD
BEGIN:DAYLIGHT
TZOFFSETFROM:-0700
TZOFFSETTO:-0600
TZNAME:MDT
DTSTART:20240310T090000
END:DAYLIGHT
BEGIN:STANDARD
TZOFFSETFROM:-0600
TZOFFSETTO:-0700
TZNAME:MST
DTSTART:20241103T080000
END:STANDARD
BEGIN:DAYLIGHT
TZOFFSETFROM:-0700
TZOFFSETTO:-0600
TZNAME:MDT
DTSTART:20250309T090000
END:DAYLIGHT
BEGIN:STANDARD
TZOFFSETFROM:-0600
TZOFFSETTO:-0700
TZNAME:MST
DTSTART:20251102T080000
END:STANDARD
END:VTIMEZONE
BEGIN:VEVENT
DTSTART;TZID=America/Denver:20241210T173000
DTEND;TZID=America/Denver:20241210T213000
DTSTAMP:20260421T102005
CREATED:20241118T205510Z
LAST-MODIFIED:20250122T200748Z
UID:10006334-1733851800-1733866200@helenaschools.org
SUMMARY:Board of Trustees Full Board Meeting 12.10.24
DESCRIPTION:
URL:https://helenaschools.org/event/board-of-trustees-full-board-meeting-12-10-24/
LOCATION:Lincoln Center\, 1325 Poplar St\, Helena\, MT\, 59601\, United States
CATEGORIES:Board of Trustees Meeting,Full Board Meeting
ORGANIZER;CN="Board of Trustees":MAILTO:boardoftrustees@helenaschools.org
END:VEVENT
BEGIN:VEVENT
DTSTART;TZID=America/Denver:20241210T120000
DTEND;TZID=America/Denver:20241210T130000
DTSTAMP:20260421T102005
CREATED:20241118T205331Z
LAST-MODIFIED:20250211T202206Z
UID:10006333-1733832000-1733835600@helenaschools.org
SUMMARY:Budget and Finance Committee Meeting 12.10.24
DESCRIPTION:
URL:https://helenaschools.org/event/budget-and-finance-committee-meeting-12-10-24/
LOCATION:Lincoln Center\, 1325 Poplar St\, Helena\, MT\, 59601\, United States
CATEGORIES:Board of Trustees Meeting,Budget and Finance Committee
ORGANIZER;CN="Board of Trustees":MAILTO:boardoftrustees@helenaschools.org
END:VEVENT
BEGIN:VEVENT
DTSTART;TZID=America/Denver:20241209T120000
DTEND;TZID=America/Denver:20241209T130000
DTSTAMP:20260421T102005
CREATED:20241118T205150Z
LAST-MODIFIED:20250121T200249Z
UID:10006332-1733745600-1733749200@helenaschools.org
SUMMARY:Facilities and Technology Committee Meeting 12.9.24
DESCRIPTION:
URL:https://helenaschools.org/event/facilities-and-technology-committee-meeting-12-9-24/
LOCATION:Lincoln Center\, 1325 Poplar St\, Helena\, MT\, 59601\, United States
CATEGORIES:Board of Trustees Meeting,Facilities and Maintenance Committee
ORGANIZER;CN="Board of Trustees":MAILTO:boardoftrustees@helenaschools.org
END:VEVENT
BEGIN:VEVENT
DTSTART;TZID=America/Denver:20241205T154500
DTEND;TZID=America/Denver:20241205T164500
DTSTAMP:20260421T102005
CREATED:20241125T195121Z
LAST-MODIFIED:20250108T151349Z
UID:10006336-1733413500-1733417100@helenaschools.org
SUMMARY:Health Benefits Committee Meeting 12.5.24
DESCRIPTION:
URL:https://helenaschools.org/event/health-benefits-committee-meeting-12-5-24-2/
LOCATION:Lincoln Center\, 1325 Poplar St\, Helena\, MT\, 59601\, United States
CATEGORIES:Board of Trustees Meeting,Health & Benefits Committee Meetings
ORGANIZER;CN="Board of Trustees":MAILTO:boardoftrustees@helenaschools.org
END:VEVENT
BEGIN:VEVENT
DTSTART;TZID=America/Denver:20241204T120000
DTEND;TZID=America/Denver:20241204T130000
DTSTAMP:20260421T102005
CREATED:20241118T204941Z
LAST-MODIFIED:20250109T211155Z
UID:10006331-1733313600-1733317200@helenaschools.org
SUMMARY:Teaching and Learning Committee Meeting 12.4.24
DESCRIPTION:
URL:https://helenaschools.org/event/teaching-and-learning-committee-meeting-12-4-24/
LOCATION:Lincoln Center\, 1325 Poplar St\, Helena\, MT\, 59601\, United States
CATEGORIES:Board of Trustees Meeting,Teaching and Learning Committee
ORGANIZER;CN="Board of Trustees":MAILTO:boardoftrustees@helenaschools.org
END:VEVENT
BEGIN:VEVENT
DTSTART;TZID=America/Denver:20241203T120000
DTEND;TZID=America/Denver:20241203T130000
DTSTAMP:20260421T102005
CREATED:20241118T204735Z
LAST-MODIFIED:20250109T211058Z
UID:10006330-1733227200-1733230800@helenaschools.org
SUMMARY:Policy Committee Meeting 12.3.24
DESCRIPTION:
URL:https://helenaschools.org/event/policy-committee-meeting-12-3-24/
LOCATION:Lincoln Center\, 1325 Poplar St\, Helena\, MT\, 59601\, United States
CATEGORIES:Board of Trustees Meeting,Policy Committee
ORGANIZER;CN="Board of Trustees":MAILTO:boardoftrustees@helenaschools.org
END:VEVENT
BEGIN:VEVENT
DTSTART;TZID=America/Denver:20241126T153000
DTEND;TZID=America/Denver:20241126T170000
DTSTAMP:20260421T102005
CREATED:20241024T151248Z
LAST-MODIFIED:20250129T182006Z
UID:10006328-1732635000-1732640400@helenaschools.org
SUMMARY:Board of Trustees Work Session At C.R. Anderson Middle School 11.26.24
DESCRIPTION:
URL:https://helenaschools.org/event/board-of-trustees-work-session-at-c-r-anderson-middle-school-11-26-24/
LOCATION:C. R. Anderson Middle School\, 1200 Knight St.\, Helena\, MT\, 59601\, United States
CATEGORIES:Board of Trustees Meeting,Work Session
ORGANIZER;CN="Board of Trustees":MAILTO:boardoftrustees@helenaschools.org
END:VEVENT
BEGIN:VEVENT
DTSTART;TZID=America/Denver:20241112T180000
DTEND;TZID=America/Denver:20241112T213000
DTSTAMP:20260421T102005
CREATED:20241024T151006Z
LAST-MODIFIED:20241230T224855Z
UID:10006327-1731434400-1731447000@helenaschools.org
SUMMARY:Board of Trustees Full Board Meeting 11.12.24
DESCRIPTION:
URL:https://helenaschools.org/event/board-of-trustees-full-board-meeting-11-12-24/
LOCATION:Lincoln Center\, 1325 Poplar St\, Helena\, MT\, 59601\, United States
CATEGORIES:Board of Trustees Meeting,Full Board Meeting
ORGANIZER;CN="Board of Trustees":MAILTO:boardoftrustees@helenaschools.org
END:VEVENT
BEGIN:VEVENT
DTSTART;TZID=America/Denver:20241112T120000
DTEND;TZID=America/Denver:20241112T130000
DTSTAMP:20260421T102005
CREATED:20241024T150826Z
LAST-MODIFIED:20241210T211711Z
UID:10006326-1731412800-1731416400@helenaschools.org
SUMMARY:Budget & Finance Committee Meeting 11.12.24
DESCRIPTION:
URL:https://helenaschools.org/event/budget-finance-committee-meeting-11-12-24/
LOCATION:Lincoln Center\, 1325 Poplar St\, Helena\, MT\, 59601\, United States
CATEGORIES:Board of Trustees Meeting,Budget and Finance Committee
ORGANIZER;CN="Board of Trustees":MAILTO:boardoftrustees@helenaschools.org
END:VEVENT
BEGIN:VEVENT
DTSTART;TZID=America/Denver:20241111T120000
DTEND;TZID=America/Denver:20241111T130000
DTSTAMP:20260421T102005
CREATED:20241024T150655Z
LAST-MODIFIED:20241210T211523Z
UID:10006325-1731326400-1731330000@helenaschools.org
SUMMARY:Facilities & Technology Committee Meeting 11.11.24
DESCRIPTION:
URL:https://helenaschools.org/event/facilities-technology-committee-meeting-11-11-24/
LOCATION:Lincoln Center\, 1325 Poplar St\, Helena\, MT\, 59601\, United States
CATEGORIES:Board of Trustees Meeting,Facilities and Maintenance Committee
ORGANIZER;CN="Board of Trustees":MAILTO:boardoftrustees@helenaschools.org
END:VEVENT
BEGIN:VEVENT
DTSTART;TZID=America/Denver:20241107T154500
DTEND;TZID=America/Denver:20241107T164500
DTSTAMP:20260421T102005
CREATED:20241104T155438Z
LAST-MODIFIED:20250108T151241Z
UID:10006329-1730994300-1730997900@helenaschools.org
SUMMARY:Health Benefits Committee Meeting 11.7.24
DESCRIPTION:
URL:https://helenaschools.org/event/health-benefits-committee-meeting-11-7-24/
LOCATION:Lincoln Center\, 1325 Poplar St\, Helena\, MT\, 59601\, United States
CATEGORIES:Board of Trustees Meeting,Health & Benefits Committee Meetings
END:VEVENT
BEGIN:VEVENT
DTSTART;TZID=America/Denver:20241107T120000
DTEND;TZID=America/Denver:20241107T140000
DTSTAMP:20260421T102005
CREATED:20241024T142114Z
LAST-MODIFIED:20241230T224755Z
UID:10006324-1730980800-1730988000@helenaschools.org
SUMMARY:Steering Committee-HPS Compensation Philosophy Meeting 11.7.24
DESCRIPTION:
URL:https://helenaschools.org/event/steering-committee-hps-compensation-philosophy-meeting-11-7-24/
LOCATION:Lincoln Center\, 1325 Poplar St\, Helena\, MT\, 59601\, United States
CATEGORIES:Board of Trustees Meeting,Special Meeting
ORGANIZER;CN="Board of Trustees":MAILTO:boardoftrustees@helenaschools.org
END:VEVENT
BEGIN:VEVENT
DTSTART;TZID=America/Denver:20241106T120000
DTEND;TZID=America/Denver:20241106T130000
DTSTAMP:20260421T102005
CREATED:20241024T141813Z
LAST-MODIFIED:20241205T203259Z
UID:10006323-1730894400-1730898000@helenaschools.org
SUMMARY:Teaching & Learning Committee Meeting 11.06.24
DESCRIPTION:
URL:https://helenaschools.org/event/teaching-learning-committee-meeting-11-06-24/
LOCATION:Lincoln Center\, 1325 Poplar St\, Helena\, MT\, 59601\, United States
CATEGORIES:Board of Trustees Meeting,Teaching and Learning Committee
ORGANIZER;CN="Board of Trustees":MAILTO:boardoftrustees@helenaschools.org
END:VEVENT
BEGIN:VEVENT
DTSTART;TZID=America/Denver:20241105T120000
DTEND;TZID=America/Denver:20241105T130000
DTSTAMP:20260421T102005
CREATED:20241024T141639Z
LAST-MODIFIED:20241101T221639Z
UID:10006322-1730808000-1730811600@helenaschools.org
SUMMARY:Policy Committee Meeting 11.05.24
DESCRIPTION:
URL:https://helenaschools.org/event/policy-committee-meeting-11-05-24/
LOCATION:Lincoln Center\, 1325 Poplar St\, Helena\, MT\, 59601\, United States
CATEGORIES:Board of Trustees Meeting,Policy Committee
ORGANIZER;CN="Board of Trustees":MAILTO:boardoftrustees@helenaschools.org
END:VEVENT
BEGIN:VEVENT
DTSTART;TZID=America/Denver:20241022T113000
DTEND;TZID=America/Denver:20241022T130000
DTSTAMP:20260421T102005
CREATED:20240917T201331Z
LAST-MODIFIED:20241230T210634Z
UID:10006319-1729596600-1729602000@helenaschools.org
SUMMARY:Board of Trustees Work Session-October 22nd\, 2024-Rossiter Elementary School
DESCRIPTION:
URL:https://helenaschools.org/event/board-of-trustees-work-session-october-22nd-2024/
LOCATION:Rossiter Elementary\, 1497 Sierra Rd. Eat\, Helena\, MT\, 59602\, United States
CATEGORIES:Board of Trustees Meeting,Work Session
ORGANIZER;CN="Board of Trustees":MAILTO:boardoftrustees@helenaschools.org
END:VEVENT
BEGIN:VEVENT
DTSTART;TZID=America/Denver:20241014T120000
DTEND;TZID=America/Denver:20241014T130000
DTSTAMP:20260421T102005
CREATED:20240917T200029Z
LAST-MODIFIED:20241011T170915Z
UID:10006316-1728907200-1728910800@helenaschools.org
SUMMARY:*POSTPONED- WILL NOW MEET NOVEMBER 11TH*         Facilities and Technology Committee Meeting-October 14th\, 2024
DESCRIPTION:
URL:https://helenaschools.org/event/facilities-and-technology-committee-meeting-october-14th-2024/
LOCATION:Lincoln Center\, 1325 Poplar St\, Helena\, MT\, 59601\, United States
CATEGORIES:Board of Trustees Meeting,Facilities and Maintenance Committee
ORGANIZER;CN="Board of Trustees":MAILTO:boardoftrustees@helenaschools.org
END:VEVENT
BEGIN:VEVENT
DTSTART;TZID=America/Denver:20241010T120000
DTEND;TZID=America/Denver:20241010T140000
DTSTAMP:20260421T102005
CREATED:20241007T173718Z
LAST-MODIFIED:20241202T004516Z
UID:10006321-1728561600-1728568800@helenaschools.org
SUMMARY:Steering Committee-HPS Compensation Philosophy Meeting 10.10.24
DESCRIPTION:
URL:https://helenaschools.org/event/steering-committee-hps-compensation-philosophy-10-10-24/
LOCATION:Lincoln Center\, 1325 Poplar St\, Helena\, MT\, 59601\, United States
CATEGORIES:Board of Trustees Meeting,Special Meeting
ORGANIZER;CN="Board of Trustees":MAILTO:boardoftrustees@helenaschools.org
END:VEVENT
BEGIN:VEVENT
DTSTART;TZID=America/Denver:20241008T173000
DTEND;TZID=America/Denver:20241008T210000
DTSTAMP:20260421T102005
CREATED:20240917T201050Z
LAST-MODIFIED:20241113T161820Z
UID:10006318-1728408600-1728421200@helenaschools.org
SUMMARY:Board of Trustees Full Board Meeting-October 8th\, 2024
DESCRIPTION:
URL:https://helenaschools.org/event/board-of-trustees-full-board-meeting-october-8th-2024/
LOCATION:Lincoln Center\, 1325 Poplar St\, Helena\, MT\, 59601\, United States
CATEGORIES:Board of Trustees Meeting,Full Board Meeting
END:VEVENT
BEGIN:VEVENT
DTSTART;TZID=America/Denver:20241008T120000
DTEND;TZID=America/Denver:20241008T130000
DTSTAMP:20260421T102005
CREATED:20240917T200908Z
LAST-MODIFIED:20241113T161538Z
UID:10006317-1728388800-1728392400@helenaschools.org
SUMMARY:Budget and Finance Committee Meeting-October 8th\, 2024
DESCRIPTION:
URL:https://helenaschools.org/event/budget-and-finance-committee-meeting-october-8th-2024/
LOCATION:Lincoln Center\, 1325 Poplar St\, Helena\, MT\, 59601\, United States
CATEGORIES:Board of Trustees Meeting,Budget and Finance Committee
ORGANIZER;CN="Board of Trustees":MAILTO:boardoftrustees@helenaschools.org
END:VEVENT
BEGIN:VEVENT
DTSTART;TZID=America/Denver:20241002T120000
DTEND;TZID=America/Denver:20241002T130000
DTSTAMP:20260421T102005
CREATED:20240917T195521Z
LAST-MODIFIED:20241113T161334Z
UID:10006315-1727870400-1727874000@helenaschools.org
SUMMARY:Teaching and Learning Committee Meeting-October 2nd\, 2024
DESCRIPTION:
URL:https://helenaschools.org/event/teaching-and-learning-committee-meeting-october-2nd-2024/
LOCATION:Lincoln Center\, 1325 Poplar St\, Helena\, MT\, 59601\, United States
CATEGORIES:Board of Trustees Meeting,Teaching and Learning Committee
ORGANIZER;CN="Board of Trustees":MAILTO:boardoftrustees@helenaschools.org
END:VEVENT
BEGIN:VEVENT
DTSTART;TZID=America/Denver:20241001T120000
DTEND;TZID=America/Denver:20241001T130000
DTSTAMP:20260421T102005
CREATED:20240917T195041Z
LAST-MODIFIED:20241106T193636Z
UID:10006314-1727784000-1727787600@helenaschools.org
SUMMARY:Policy Committee Meeting-October 1st\, 2024
DESCRIPTION:
URL:https://helenaschools.org/event/policy-committee-meeting-october-1st-2024/
LOCATION:Lincoln Center\, 1325 Poplar St\, Helena\, MT\, 59601\, United States
CATEGORIES:Board of Trustees Meeting,Policy Committee
ORGANIZER;CN="Board of Trustees":MAILTO:boardoftrustees@helenaschools.org
END:VEVENT
BEGIN:VEVENT
DTSTART;TZID=America/Denver:20240924T113000
DTEND;TZID=America/Denver:20240924T130000
DTSTAMP:20260421T102005
CREATED:20240920T202836Z
LAST-MODIFIED:20241230T211009Z
UID:10006320-1727177400-1727182800@helenaschools.org
SUMMARY:Board of Trustees Work Session At Central Elementary School-September 24th\, 2024
DESCRIPTION:
URL:https://helenaschools.org/event/board-of-trustees-work-session-at-central-elementary-school-september-24th-2024/
LOCATION:Central Elementary\, 402 N Warren St\, Helena\, MT\, 59601\, United States
CATEGORIES:Board of Trustees Meeting,Work Session
ORGANIZER;CN="Board of Trustees":MAILTO:boardoftrustees@helenaschools.org
END:VEVENT
BEGIN:VEVENT
DTSTART;TZID=America/Denver:20240918T104500
DTEND;TZID=America/Denver:20240918T130000
DTSTAMP:20260421T102005
CREATED:20240913T011427Z
LAST-MODIFIED:20240918T150209Z
UID:10006313-1726656300-1726664400@helenaschools.org
SUMMARY:*CANCELED-WILL BE RESCHEDULED FOR A FUTURE DATE* Board of Trustees Special Board Meeting-September 18th\, 2024
DESCRIPTION:
URL:https://helenaschools.org/event/board-of-trustees-special-board-meeting-september-18th-2024/
LOCATION:Lincoln Center\, 1325 Poplar St\, Helena\, MT\, 59601\, United States
CATEGORIES:Board of Trustees Meeting,Special Meeting
ORGANIZER;CN="Board of Trustees":MAILTO:boardoftrustees@helenaschools.org
END:VEVENT
BEGIN:VEVENT
DTSTART;TZID=America/Denver:20240910T173000
DTEND;TZID=America/Denver:20240910T213000
DTSTAMP:20260421T102005
CREATED:20240814T164544Z
LAST-MODIFIED:20241009T203010Z
UID:10006311-1725989400-1726003800@helenaschools.org
SUMMARY:Board of Trustees Full Board Meeting-September 10th\, 2024
DESCRIPTION:
URL:https://helenaschools.org/event/board-of-trustees-full-board-meeting-september-10th-2024/
LOCATION:Lincoln Center\, 1325 Poplar St\, Helena\, MT\, 59601\, United States
CATEGORIES:Board of Trustees Meeting,Full Board Meeting
ORGANIZER;CN="Board of Trustees":MAILTO:boardoftrustees@helenaschools.org
END:VEVENT
BEGIN:VEVENT
DTSTART;TZID=America/Denver:20240910T120000
DTEND;TZID=America/Denver:20240910T130000
DTSTAMP:20260421T102005
CREATED:20240814T164344Z
LAST-MODIFIED:20241009T201508Z
UID:10006310-1725969600-1725973200@helenaschools.org
SUMMARY:Budget & Finance Committee Meeting-September 10th\, 2024
DESCRIPTION:
URL:https://helenaschools.org/event/budget-finance-committee-meeting-september-10th-2024/
LOCATION:Lincoln Center\, 1325 Poplar St\, Helena\, MT\, 59601\, United States
CATEGORIES:Board of Trustees Meeting,Budget and Finance Committee
ORGANIZER;CN="Board of Trustees":MAILTO:boardoftrustees@helenaschools.org
END:VEVENT
BEGIN:VEVENT
DTSTART;TZID=America/Denver:20240909T120000
DTEND;TZID=America/Denver:20240909T130000
DTSTAMP:20260421T102005
CREATED:20240814T164202Z
LAST-MODIFIED:20241125T212634Z
UID:10006309-1725883200-1725886800@helenaschools.org
SUMMARY:Facilities & Technology Committee Meeting-September 9th\, 2024
DESCRIPTION:
URL:https://helenaschools.org/event/facilities-technology-committee-meeting-september-9th-2024/
LOCATION:Lincoln Center\, 1325 Poplar St\, Helena\, MT\, 59601\, United States
CATEGORIES:Board of Trustees Meeting,Facilities and Maintenance Committee
ORGANIZER;CN="Board of Trustees":MAILTO:boardoftrustees@helenaschools.org
END:VEVENT
BEGIN:VEVENT
DTSTART;TZID=America/Denver:20240904T120000
DTEND;TZID=America/Denver:20240904T130000
DTSTAMP:20260421T102005
CREATED:20240814T164001Z
LAST-MODIFIED:20241003T205035Z
UID:10006308-1725451200-1725454800@helenaschools.org
SUMMARY:Teaching & Learning Committee Meeting-September 4th\, 2024
DESCRIPTION:
URL:https://helenaschools.org/event/teaching-learning-committee-meeting-september-4th-2024/
LOCATION:Lincoln Center\, 1325 Poplar St\, Helena\, MT\, 59601\, United States
CATEGORIES:Board of Trustees Meeting,Teaching and Learning Committee
ORGANIZER;CN="Board of Trustees":MAILTO:boardoftrustees@helenaschools.org
END:VEVENT
BEGIN:VEVENT
DTSTART;TZID=America/Denver:20240903T120000
DTEND;TZID=America/Denver:20240903T130000
DTSTAMP:20260421T102005
CREATED:20240814T163755Z
LAST-MODIFIED:20241003T204938Z
UID:10006307-1725364800-1725368400@helenaschools.org
SUMMARY:Policy Committee Meeting-September 3rd\, 2024
DESCRIPTION:
URL:https://helenaschools.org/event/policy-committee-meeting-september-3rd-2024/
LOCATION:Lincoln Center\, 1325 Poplar St\, Helena\, MT\, 59601\, United States
CATEGORIES:Board of Trustees Meeting,Policy Committee
ORGANIZER;CN="Board of Trustees":MAILTO:boardoftrustees@helenaschools.org
END:VEVENT
BEGIN:VEVENT
DTSTART;TZID=America/Denver:20240829T154500
DTEND;TZID=America/Denver:20240829T171500
DTSTAMP:20260421T102005
CREATED:20240821T163003Z
LAST-MODIFIED:20250122T214612Z
UID:10006312-1724946300-1724951700@helenaschools.org
SUMMARY:Health Benefits Committee Meeting 8.29.24
DESCRIPTION:
URL:https://helenaschools.org/event/health-benefits-committee-meeting-8-29-24/
LOCATION:Lincoln Center\, 1325 Poplar St\, Helena\, MT\, 59601\, United States
CATEGORIES:Board of Trustees Meeting,Health & Benefits Committee Meetings
ORGANIZER;CN="Board of Trustees":MAILTO:boardoftrustees@helenaschools.org
END:VEVENT
BEGIN:VEVENT
DTSTART;TZID=America/Denver:20240813T173000
DTEND;TZID=America/Denver:20240813T213000
DTSTAMP:20260421T102005
CREATED:20240808T165451Z
LAST-MODIFIED:20240916T200206Z
UID:10006306-1723570200-1723584600@helenaschools.org
SUMMARY:Board of Trustees Full Board Meeting-August 13th\, 2024
DESCRIPTION:
URL:https://helenaschools.org/event/board-of-trustees-full-board-meeting-august-13th-2024/
LOCATION:Lincoln Center\, 1325 Poplar St\, Helena\, MT\, 59601\, United States
CATEGORIES:Board of Trustees Meeting,Full Board Meeting
ORGANIZER;CN="Board of Trustees":MAILTO:boardoftrustees@helenaschools.org
END:VEVENT
END:VCALENDAR